BEGIN:VCALENDAR
VERSION:2.0
PRODID:-//Westover Episcopal Church - Charles City, VA - ECPv6.15.20//NONSGML v1.0//EN
CALSCALE:GREGORIAN
METHOD:PUBLISH
X-WR-CALNAME:Westover Episcopal Church - Charles City, VA
X-ORIGINAL-URL:https://westoverepiscopalchurch.org
X-WR-CALDESC:Events for Westover Episcopal Church - Charles City, VA
REFRESH-INTERVAL;VALUE=DURATION:PT1H
X-Robots-Tag:noindex
X-PUBLISHED-TTL:PT1H
BEGIN:VTIMEZONE
TZID:America/New_York
BEGIN:DAYLIGHT
TZOFFSETFROM:-0500
TZOFFSETTO:-0400
TZNAME:EDT
DTSTART:20240310T070000
END:DAYLIGHT
BEGIN:STANDARD
TZOFFSETFROM:-0400
TZOFFSETTO:-0500
TZNAME:EST
DTSTART:20241103T060000
END:STANDARD
BEGIN:DAYLIGHT
TZOFFSETFROM:-0500
TZOFFSETTO:-0400
TZNAME:EDT
DTSTART:20250309T070000
END:DAYLIGHT
BEGIN:STANDARD
TZOFFSETFROM:-0400
TZOFFSETTO:-0500
TZNAME:EST
DTSTART:20251102T060000
END:STANDARD
BEGIN:DAYLIGHT
TZOFFSETFROM:-0500
TZOFFSETTO:-0400
TZNAME:EDT
DTSTART:20260308T070000
END:DAYLIGHT
BEGIN:STANDARD
TZOFFSETFROM:-0400
TZOFFSETTO:-0500
TZNAME:EST
DTSTART:20261101T060000
END:STANDARD
END:VTIMEZONE
BEGIN:VEVENT
DTSTART;TZID=America/New_York:20251208T090000
DTEND;TZID=America/New_York:20251208T110000
DTSTAMP:20260423T195740
CREATED:20230113T145846Z
LAST-MODIFIED:20230113T145846Z
UID:10003076-1765184400-1765191600@westoverepiscopalchurch.org
SUMMARY:Meals on Wheels
DESCRIPTION:Meals On Wheels (MOW) serves hot\, nutritious meals to the homebound elderly and/or disabled Monday through Friday.
URL:https://westoverepiscopalchurch.org/event/meals-on-wheels/2025-12-08/
END:VEVENT
BEGIN:VEVENT
DTSTART;TZID=America/New_York:20251208T090000
DTEND;TZID=America/New_York:20251208T110000
DTSTAMP:20260423T195740
CREATED:20250103T170003Z
LAST-MODIFIED:20250103T170126Z
UID:10002128-1765184400-1765191600@westoverepiscopalchurch.org
SUMMARY:Meals on Wheels
DESCRIPTION:
URL:https://westoverepiscopalchurch.org/event/meals-on-wheels-2/2025-12-08/
END:VEVENT
BEGIN:VEVENT
DTSTART;TZID=America/New_York:20251209T090000
DTEND;TZID=America/New_York:20251209T110000
DTSTAMP:20260423T195740
CREATED:20230113T145846Z
LAST-MODIFIED:20230113T145846Z
UID:10003077-1765270800-1765278000@westoverepiscopalchurch.org
SUMMARY:Meals on Wheels
DESCRIPTION:Meals On Wheels (MOW) serves hot\, nutritious meals to the homebound elderly and/or disabled Monday through Friday.
URL:https://westoverepiscopalchurch.org/event/meals-on-wheels/2025-12-09/
END:VEVENT
BEGIN:VEVENT
DTSTART;TZID=America/New_York:20251209T090000
DTEND;TZID=America/New_York:20251209T110000
DTSTAMP:20260423T195740
CREATED:20250103T170003Z
LAST-MODIFIED:20250103T170126Z
UID:10002129-1765270800-1765278000@westoverepiscopalchurch.org
SUMMARY:Meals on Wheels
DESCRIPTION:
URL:https://westoverepiscopalchurch.org/event/meals-on-wheels-2/2025-12-09/
END:VEVENT
BEGIN:VEVENT
DTSTART;TZID=America/New_York:20251210T090000
DTEND;TZID=America/New_York:20251210T110000
DTSTAMP:20260423T195740
CREATED:20230113T145846Z
LAST-MODIFIED:20230113T145846Z
UID:10003078-1765357200-1765364400@westoverepiscopalchurch.org
SUMMARY:Meals on Wheels
DESCRIPTION:Meals On Wheels (MOW) serves hot\, nutritious meals to the homebound elderly and/or disabled Monday through Friday.
URL:https://westoverepiscopalchurch.org/event/meals-on-wheels/2025-12-10/
END:VEVENT
BEGIN:VEVENT
DTSTART;TZID=America/New_York:20251210T090000
DTEND;TZID=America/New_York:20251210T110000
DTSTAMP:20260423T195740
CREATED:20250103T170003Z
LAST-MODIFIED:20250103T170126Z
UID:10002130-1765357200-1765364400@westoverepiscopalchurch.org
SUMMARY:Meals on Wheels
DESCRIPTION:
URL:https://westoverepiscopalchurch.org/event/meals-on-wheels-2/2025-12-10/
END:VEVENT
BEGIN:VEVENT
DTSTART;TZID=America/New_York:20251211T090000
DTEND;TZID=America/New_York:20251211T110000
DTSTAMP:20260423T195740
CREATED:20230113T145846Z
LAST-MODIFIED:20230113T145846Z
UID:10003079-1765443600-1765450800@westoverepiscopalchurch.org
SUMMARY:Meals on Wheels
DESCRIPTION:Meals On Wheels (MOW) serves hot\, nutritious meals to the homebound elderly and/or disabled Monday through Friday.
URL:https://westoverepiscopalchurch.org/event/meals-on-wheels/2025-12-11/
END:VEVENT
BEGIN:VEVENT
DTSTART;TZID=America/New_York:20251211T090000
DTEND;TZID=America/New_York:20251211T110000
DTSTAMP:20260423T195740
CREATED:20250103T170003Z
LAST-MODIFIED:20250103T170126Z
UID:10002131-1765443600-1765450800@westoverepiscopalchurch.org
SUMMARY:Meals on Wheels
DESCRIPTION:
URL:https://westoverepiscopalchurch.org/event/meals-on-wheels-2/2025-12-11/
END:VEVENT
BEGIN:VEVENT
DTSTART;TZID=America/New_York:20251211T100000
DTEND;TZID=America/New_York:20251211T110000
DTSTAMP:20260423T195740
CREATED:20241203T183802Z
LAST-MODIFIED:20250520T131430Z
UID:10001615-1765447200-1765450800@westoverepiscopalchurch.org
SUMMARY:Gentle Yoga with Rev. Becky
DESCRIPTION:
URL:https://westoverepiscopalchurch.org/event/gentle-yoga-with-rev-becky-6/2025-12-11/
END:VEVENT
BEGIN:VEVENT
DTSTART;TZID=America/New_York:20251212T090000
DTEND;TZID=America/New_York:20251212T110000
DTSTAMP:20260423T195740
CREATED:20230113T145846Z
LAST-MODIFIED:20230113T145846Z
UID:10003080-1765530000-1765537200@westoverepiscopalchurch.org
SUMMARY:Meals on Wheels
DESCRIPTION:Meals On Wheels (MOW) serves hot\, nutritious meals to the homebound elderly and/or disabled Monday through Friday.
URL:https://westoverepiscopalchurch.org/event/meals-on-wheels/2025-12-12/
END:VEVENT
BEGIN:VEVENT
DTSTART;TZID=America/New_York:20251212T090000
DTEND;TZID=America/New_York:20251212T110000
DTSTAMP:20260423T195740
CREATED:20250103T170003Z
LAST-MODIFIED:20250103T170126Z
UID:10002132-1765530000-1765537200@westoverepiscopalchurch.org
SUMMARY:Meals on Wheels
DESCRIPTION:
URL:https://westoverepiscopalchurch.org/event/meals-on-wheels-2/2025-12-12/
END:VEVENT
END:VCALENDAR