BEGIN:VCALENDAR
VERSION:2.0
PRODID:-//Westover Episcopal Church - Charles City, VA - ECPv6.15.20//NONSGML v1.0//EN
CALSCALE:GREGORIAN
METHOD:PUBLISH
X-WR-CALNAME:Westover Episcopal Church - Charles City, VA
X-ORIGINAL-URL:https://westoverepiscopalchurch.org
X-WR-CALDESC:Events for Westover Episcopal Church - Charles City, VA
REFRESH-INTERVAL;VALUE=DURATION:PT1H
X-Robots-Tag:noindex
X-PUBLISHED-TTL:PT1H
BEGIN:VTIMEZONE
TZID:America/New_York
BEGIN:DAYLIGHT
TZOFFSETFROM:-0500
TZOFFSETTO:-0400
TZNAME:EDT
DTSTART:20240310T070000
END:DAYLIGHT
BEGIN:STANDARD
TZOFFSETFROM:-0400
TZOFFSETTO:-0500
TZNAME:EST
DTSTART:20241103T060000
END:STANDARD
BEGIN:DAYLIGHT
TZOFFSETFROM:-0500
TZOFFSETTO:-0400
TZNAME:EDT
DTSTART:20250309T070000
END:DAYLIGHT
BEGIN:STANDARD
TZOFFSETFROM:-0400
TZOFFSETTO:-0500
TZNAME:EST
DTSTART:20251102T060000
END:STANDARD
BEGIN:DAYLIGHT
TZOFFSETFROM:-0500
TZOFFSETTO:-0400
TZNAME:EDT
DTSTART:20260308T070000
END:DAYLIGHT
BEGIN:STANDARD
TZOFFSETFROM:-0400
TZOFFSETTO:-0500
TZNAME:EST
DTSTART:20261101T060000
END:STANDARD
END:VTIMEZONE
BEGIN:VEVENT
DTSTART;TZID=America/New_York:20251222T090000
DTEND;TZID=America/New_York:20251222T110000
DTSTAMP:20260423T182801
CREATED:20230113T145846Z
LAST-MODIFIED:20230113T145846Z
UID:10003086-1766394000-1766401200@westoverepiscopalchurch.org
SUMMARY:Meals on Wheels
DESCRIPTION:Meals On Wheels (MOW) serves hot\, nutritious meals to the homebound elderly and/or disabled Monday through Friday.
URL:https://westoverepiscopalchurch.org/event/meals-on-wheels/2025-12-22/
END:VEVENT
BEGIN:VEVENT
DTSTART;TZID=America/New_York:20251222T090000
DTEND;TZID=America/New_York:20251222T110000
DTSTAMP:20260423T182801
CREATED:20250103T170003Z
LAST-MODIFIED:20250103T170126Z
UID:10002138-1766394000-1766401200@westoverepiscopalchurch.org
SUMMARY:Meals on Wheels
DESCRIPTION:
URL:https://westoverepiscopalchurch.org/event/meals-on-wheels-2/2025-12-22/
END:VEVENT
BEGIN:VEVENT
DTSTART;TZID=America/New_York:20251223T090000
DTEND;TZID=America/New_York:20251223T110000
DTSTAMP:20260423T182801
CREATED:20230113T145846Z
LAST-MODIFIED:20230113T145846Z
UID:10003087-1766480400-1766487600@westoverepiscopalchurch.org
SUMMARY:Meals on Wheels
DESCRIPTION:Meals On Wheels (MOW) serves hot\, nutritious meals to the homebound elderly and/or disabled Monday through Friday.
URL:https://westoverepiscopalchurch.org/event/meals-on-wheels/2025-12-23/
END:VEVENT
BEGIN:VEVENT
DTSTART;TZID=America/New_York:20251223T090000
DTEND;TZID=America/New_York:20251223T110000
DTSTAMP:20260423T182801
CREATED:20250103T170003Z
LAST-MODIFIED:20250103T170126Z
UID:10002139-1766480400-1766487600@westoverepiscopalchurch.org
SUMMARY:Meals on Wheels
DESCRIPTION:
URL:https://westoverepiscopalchurch.org/event/meals-on-wheels-2/2025-12-23/
END:VEVENT
BEGIN:VEVENT
DTSTART;TZID=America/New_York:20251224T090000
DTEND;TZID=America/New_York:20251224T110000
DTSTAMP:20260423T182801
CREATED:20230113T145846Z
LAST-MODIFIED:20230113T145846Z
UID:10003088-1766566800-1766574000@westoverepiscopalchurch.org
SUMMARY:Meals on Wheels
DESCRIPTION:Meals On Wheels (MOW) serves hot\, nutritious meals to the homebound elderly and/or disabled Monday through Friday.
URL:https://westoverepiscopalchurch.org/event/meals-on-wheels/2025-12-24/
END:VEVENT
BEGIN:VEVENT
DTSTART;TZID=America/New_York:20251224T090000
DTEND;TZID=America/New_York:20251224T110000
DTSTAMP:20260423T182801
CREATED:20250103T170003Z
LAST-MODIFIED:20250103T170126Z
UID:10002140-1766566800-1766574000@westoverepiscopalchurch.org
SUMMARY:Meals on Wheels
DESCRIPTION:
URL:https://westoverepiscopalchurch.org/event/meals-on-wheels-2/2025-12-24/
END:VEVENT
BEGIN:VEVENT
DTSTART;TZID=America/New_York:20251225T090000
DTEND;TZID=America/New_York:20251225T110000
DTSTAMP:20260423T182801
CREATED:20230113T145846Z
LAST-MODIFIED:20230113T145846Z
UID:10003089-1766653200-1766660400@westoverepiscopalchurch.org
SUMMARY:Meals on Wheels
DESCRIPTION:Meals On Wheels (MOW) serves hot\, nutritious meals to the homebound elderly and/or disabled Monday through Friday.
URL:https://westoverepiscopalchurch.org/event/meals-on-wheels/2025-12-25/
END:VEVENT
BEGIN:VEVENT
DTSTART;TZID=America/New_York:20251225T100000
DTEND;TZID=America/New_York:20251225T110000
DTSTAMP:20260423T182801
CREATED:20241203T183802Z
LAST-MODIFIED:20250520T131430Z
UID:10001617-1766656800-1766660400@westoverepiscopalchurch.org
SUMMARY:Gentle Yoga with Rev. Becky
DESCRIPTION:
URL:https://westoverepiscopalchurch.org/event/gentle-yoga-with-rev-becky-6/2025-12-25/
END:VEVENT
BEGIN:VEVENT
DTSTART;TZID=America/New_York:20251226T090000
DTEND;TZID=America/New_York:20251226T110000
DTSTAMP:20260423T182801
CREATED:20230113T145846Z
LAST-MODIFIED:20230113T145846Z
UID:10003090-1766739600-1766746800@westoverepiscopalchurch.org
SUMMARY:Meals on Wheels
DESCRIPTION:Meals On Wheels (MOW) serves hot\, nutritious meals to the homebound elderly and/or disabled Monday through Friday.
URL:https://westoverepiscopalchurch.org/event/meals-on-wheels/2025-12-26/
END:VEVENT
BEGIN:VEVENT
DTSTART;TZID=America/New_York:20251226T090000
DTEND;TZID=America/New_York:20251226T110000
DTSTAMP:20260423T182801
CREATED:20250103T170003Z
LAST-MODIFIED:20250103T170126Z
UID:10002141-1766739600-1766746800@westoverepiscopalchurch.org
SUMMARY:Meals on Wheels
DESCRIPTION:
URL:https://westoverepiscopalchurch.org/event/meals-on-wheels-2/2025-12-26/
END:VEVENT
END:VCALENDAR