BEGIN:VCALENDAR
VERSION:2.0
PRODID:-//Westover Episcopal Church - Charles City, VA - ECPv6.15.20//NONSGML v1.0//EN
CALSCALE:GREGORIAN
METHOD:PUBLISH
X-ORIGINAL-URL:https://westoverepiscopalchurch.org
X-WR-CALDESC:Events for Westover Episcopal Church - Charles City, VA
REFRESH-INTERVAL;VALUE=DURATION:PT1H
X-Robots-Tag:noindex
X-PUBLISHED-TTL:PT1H
BEGIN:VTIMEZONE
TZID:America/New_York
BEGIN:DAYLIGHT
TZOFFSETFROM:-0500
TZOFFSETTO:-0400
TZNAME:EDT
DTSTART:20250309T070000
END:DAYLIGHT
BEGIN:STANDARD
TZOFFSETFROM:-0400
TZOFFSETTO:-0500
TZNAME:EST
DTSTART:20251102T060000
END:STANDARD
BEGIN:DAYLIGHT
TZOFFSETFROM:-0500
TZOFFSETTO:-0400
TZNAME:EDT
DTSTART:20260308T070000
END:DAYLIGHT
BEGIN:STANDARD
TZOFFSETFROM:-0400
TZOFFSETTO:-0500
TZNAME:EST
DTSTART:20261101T060000
END:STANDARD
BEGIN:DAYLIGHT
TZOFFSETFROM:-0500
TZOFFSETTO:-0400
TZNAME:EDT
DTSTART:20270314T070000
END:DAYLIGHT
BEGIN:STANDARD
TZOFFSETFROM:-0400
TZOFFSETTO:-0500
TZNAME:EST
DTSTART:20271107T060000
END:STANDARD
END:VTIMEZONE
BEGIN:VEVENT
DTSTART;TZID=America/New_York:20260201T100000
DTEND;TZID=America/New_York:20260201T110000
DTSTAMP:20260423T182822
CREATED:20251230T152726Z
LAST-MODIFIED:20251230T152726Z
UID:10002200-1769940000-1769943600@westoverepiscopalchurch.org
SUMMARY:Fourth Sunday after the Epiphany Service
DESCRIPTION:
URL:https://westoverepiscopalchurch.org/event/fourth-sunday-after-the-epiphany-service-2/
LOCATION:Westover Episcopal Church\, 6401 John Tyler Hwy.\, Charles City\, VA\, 23030\, United States
END:VEVENT
BEGIN:VEVENT
DTSTART;TZID=America/New_York:20260202T090000
DTEND;TZID=America/New_York:20260202T110000
DTSTAMP:20260423T182822
CREATED:20230113T145846Z
LAST-MODIFIED:20230113T145846Z
UID:10003116-1770022800-1770030000@westoverepiscopalchurch.org
SUMMARY:Meals on Wheels
DESCRIPTION:Meals On Wheels (MOW) serves hot\, nutritious meals to the homebound elderly and/or disabled Monday through Friday.
URL:https://westoverepiscopalchurch.org/event/meals-on-wheels/2026-02-02/
END:VEVENT
BEGIN:VEVENT
DTSTART;TZID=America/New_York:20260203T090000
DTEND;TZID=America/New_York:20260203T110000
DTSTAMP:20260423T182822
CREATED:20230113T145846Z
LAST-MODIFIED:20230113T145846Z
UID:10003117-1770109200-1770116400@westoverepiscopalchurch.org
SUMMARY:Meals on Wheels
DESCRIPTION:Meals On Wheels (MOW) serves hot\, nutritious meals to the homebound elderly and/or disabled Monday through Friday.
URL:https://westoverepiscopalchurch.org/event/meals-on-wheels/2026-02-03/
END:VEVENT
BEGIN:VEVENT
DTSTART;TZID=America/New_York:20260204T090000
DTEND;TZID=America/New_York:20260204T110000
DTSTAMP:20260423T182822
CREATED:20230113T145846Z
LAST-MODIFIED:20230113T145846Z
UID:10003118-1770195600-1770202800@westoverepiscopalchurch.org
SUMMARY:Meals on Wheels
DESCRIPTION:Meals On Wheels (MOW) serves hot\, nutritious meals to the homebound elderly and/or disabled Monday through Friday.
URL:https://westoverepiscopalchurch.org/event/meals-on-wheels/2026-02-04/
END:VEVENT
BEGIN:VEVENT
DTSTART;TZID=America/New_York:20260205T090000
DTEND;TZID=America/New_York:20260205T110000
DTSTAMP:20260423T182822
CREATED:20230113T145846Z
LAST-MODIFIED:20230113T145846Z
UID:10003119-1770282000-1770289200@westoverepiscopalchurch.org
SUMMARY:Meals on Wheels
DESCRIPTION:Meals On Wheels (MOW) serves hot\, nutritious meals to the homebound elderly and/or disabled Monday through Friday.
URL:https://westoverepiscopalchurch.org/event/meals-on-wheels/2026-02-05/
END:VEVENT
BEGIN:VEVENT
DTSTART;TZID=America/New_York:20260205T100000
DTEND;TZID=America/New_York:20260205T110000
DTSTAMP:20260423T182822
CREATED:20241203T183802Z
LAST-MODIFIED:20250520T131430Z
UID:10001623-1770285600-1770289200@westoverepiscopalchurch.org
SUMMARY:Gentle Yoga with Rev. Becky
DESCRIPTION:
URL:https://westoverepiscopalchurch.org/event/gentle-yoga-with-rev-becky-6/2026-02-05/
END:VEVENT
BEGIN:VEVENT
DTSTART;TZID=America/New_York:20260206T090000
DTEND;TZID=America/New_York:20260206T110000
DTSTAMP:20260423T182822
CREATED:20230113T145846Z
LAST-MODIFIED:20230113T145846Z
UID:10003120-1770368400-1770375600@westoverepiscopalchurch.org
SUMMARY:Meals on Wheels
DESCRIPTION:Meals On Wheels (MOW) serves hot\, nutritious meals to the homebound elderly and/or disabled Monday through Friday.
URL:https://westoverepiscopalchurch.org/event/meals-on-wheels/2026-02-06/
END:VEVENT
END:VCALENDAR