BEGIN:VCALENDAR
VERSION:2.0
PRODID:-//Westover Episcopal Church - Charles City, VA - ECPv6.15.20//NONSGML v1.0//EN
CALSCALE:GREGORIAN
METHOD:PUBLISH
X-WR-CALNAME:Westover Episcopal Church - Charles City, VA
X-ORIGINAL-URL:https://westoverepiscopalchurch.org
X-WR-CALDESC:Events for Westover Episcopal Church - Charles City, VA
REFRESH-INTERVAL;VALUE=DURATION:PT1H
X-Robots-Tag:noindex
X-PUBLISHED-TTL:PT1H
BEGIN:VTIMEZONE
TZID:America/New_York
BEGIN:DAYLIGHT
TZOFFSETFROM:-0500
TZOFFSETTO:-0400
TZNAME:EDT
DTSTART:20250309T070000
END:DAYLIGHT
BEGIN:STANDARD
TZOFFSETFROM:-0400
TZOFFSETTO:-0500
TZNAME:EST
DTSTART:20251102T060000
END:STANDARD
BEGIN:DAYLIGHT
TZOFFSETFROM:-0500
TZOFFSETTO:-0400
TZNAME:EDT
DTSTART:20260308T070000
END:DAYLIGHT
BEGIN:STANDARD
TZOFFSETFROM:-0400
TZOFFSETTO:-0500
TZNAME:EST
DTSTART:20261101T060000
END:STANDARD
BEGIN:DAYLIGHT
TZOFFSETFROM:-0500
TZOFFSETTO:-0400
TZNAME:EDT
DTSTART:20270314T070000
END:DAYLIGHT
BEGIN:STANDARD
TZOFFSETFROM:-0400
TZOFFSETTO:-0500
TZNAME:EST
DTSTART:20271107T060000
END:STANDARD
END:VTIMEZONE
BEGIN:VEVENT
DTSTART;TZID=America/New_York:20260412T100000
DTEND;TZID=America/New_York:20260412T110000
DTSTAMP:20260423T121311
CREATED:20260415T170739Z
LAST-MODIFIED:20260415T170739Z
UID:10004474-1775988000-1775991600@westoverepiscopalchurch.org
SUMMARY:Second Sunday of Easter Service
DESCRIPTION:
URL:https://westoverepiscopalchurch.org/event/second-sunday-of-easter-service-3/
END:VEVENT
BEGIN:VEVENT
DTSTART;TZID=America/New_York:20260413T090000
DTEND;TZID=America/New_York:20260413T110000
DTSTAMP:20260423T121311
CREATED:20230113T145846Z
LAST-MODIFIED:20230113T145846Z
UID:10003166-1776070800-1776078000@westoverepiscopalchurch.org
SUMMARY:Meals on Wheels
DESCRIPTION:Meals On Wheels (MOW) serves hot\, nutritious meals to the homebound elderly and/or disabled Monday through Friday.
URL:https://westoverepiscopalchurch.org/event/meals-on-wheels/2026-04-13/
END:VEVENT
BEGIN:VEVENT
DTSTART;TZID=America/New_York:20260414T090000
DTEND;TZID=America/New_York:20260414T110000
DTSTAMP:20260423T121311
CREATED:20230113T145846Z
LAST-MODIFIED:20230113T145846Z
UID:10003167-1776157200-1776164400@westoverepiscopalchurch.org
SUMMARY:Meals on Wheels
DESCRIPTION:Meals On Wheels (MOW) serves hot\, nutritious meals to the homebound elderly and/or disabled Monday through Friday.
URL:https://westoverepiscopalchurch.org/event/meals-on-wheels/2026-04-14/
END:VEVENT
BEGIN:VEVENT
DTSTART;TZID=America/New_York:20260415T090000
DTEND;TZID=America/New_York:20260415T110000
DTSTAMP:20260423T121311
CREATED:20230113T145846Z
LAST-MODIFIED:20230113T145846Z
UID:10003168-1776243600-1776250800@westoverepiscopalchurch.org
SUMMARY:Meals on Wheels
DESCRIPTION:Meals On Wheels (MOW) serves hot\, nutritious meals to the homebound elderly and/or disabled Monday through Friday.
URL:https://westoverepiscopalchurch.org/event/meals-on-wheels/2026-04-15/
END:VEVENT
BEGIN:VEVENT
DTSTART;TZID=America/New_York:20260416T090000
DTEND;TZID=America/New_York:20260416T110000
DTSTAMP:20260423T121311
CREATED:20230113T145846Z
LAST-MODIFIED:20230113T145846Z
UID:10003169-1776330000-1776337200@westoverepiscopalchurch.org
SUMMARY:Meals on Wheels
DESCRIPTION:Meals On Wheels (MOW) serves hot\, nutritious meals to the homebound elderly and/or disabled Monday through Friday.
URL:https://westoverepiscopalchurch.org/event/meals-on-wheels/2026-04-16/
END:VEVENT
BEGIN:VEVENT
DTSTART;TZID=America/New_York:20260416T100000
DTEND;TZID=America/New_York:20260416T110000
DTSTAMP:20260423T121311
CREATED:20260415T173510Z
LAST-MODIFIED:20260415T173510Z
UID:10004486-1776333600-1776337200@westoverepiscopalchurch.org
SUMMARY:Gentle Yoga with Rev. Becky
DESCRIPTION:
URL:https://westoverepiscopalchurch.org/event/gentle-yoga-with-rev-becky/
END:VEVENT
BEGIN:VEVENT
DTSTART;TZID=America/New_York:20260417T090000
DTEND;TZID=America/New_York:20260417T110000
DTSTAMP:20260423T121311
CREATED:20230113T145846Z
LAST-MODIFIED:20230113T145846Z
UID:10003170-1776416400-1776423600@westoverepiscopalchurch.org
SUMMARY:Meals on Wheels
DESCRIPTION:Meals On Wheels (MOW) serves hot\, nutritious meals to the homebound elderly and/or disabled Monday through Friday.
URL:https://westoverepiscopalchurch.org/event/meals-on-wheels/2026-04-17/
END:VEVENT
END:VCALENDAR