BEGIN:VCALENDAR
VERSION:2.0
PRODID:-//Westover Episcopal Church - Charles City, VA - ECPv6.15.20//NONSGML v1.0//EN
CALSCALE:GREGORIAN
METHOD:PUBLISH
X-WR-CALNAME:Westover Episcopal Church - Charles City, VA
X-ORIGINAL-URL:https://westoverepiscopalchurch.org
X-WR-CALDESC:Events for Westover Episcopal Church - Charles City, VA
REFRESH-INTERVAL;VALUE=DURATION:PT1H
X-Robots-Tag:noindex
X-PUBLISHED-TTL:PT1H
BEGIN:VTIMEZONE
TZID:America/New_York
BEGIN:DAYLIGHT
TZOFFSETFROM:-0500
TZOFFSETTO:-0400
TZNAME:EDT
DTSTART:20250309T070000
END:DAYLIGHT
BEGIN:STANDARD
TZOFFSETFROM:-0400
TZOFFSETTO:-0500
TZNAME:EST
DTSTART:20251102T060000
END:STANDARD
BEGIN:DAYLIGHT
TZOFFSETFROM:-0500
TZOFFSETTO:-0400
TZNAME:EDT
DTSTART:20260308T070000
END:DAYLIGHT
BEGIN:STANDARD
TZOFFSETFROM:-0400
TZOFFSETTO:-0500
TZNAME:EST
DTSTART:20261101T060000
END:STANDARD
BEGIN:DAYLIGHT
TZOFFSETFROM:-0500
TZOFFSETTO:-0400
TZNAME:EDT
DTSTART:20270314T070000
END:DAYLIGHT
BEGIN:STANDARD
TZOFFSETFROM:-0400
TZOFFSETTO:-0500
TZNAME:EST
DTSTART:20271107T060000
END:STANDARD
END:VTIMEZONE
BEGIN:VEVENT
DTSTART;TZID=America/New_York:20260531T100000
DTEND;TZID=America/New_York:20260531T110000
DTSTAMP:20260423T150027
CREATED:20260415T173034Z
LAST-MODIFIED:20260415T173034Z
UID:10004481-1780221600-1780225200@westoverepiscopalchurch.org
SUMMARY:Trinity Sunday
DESCRIPTION:
URL:https://westoverepiscopalchurch.org/event/trinity-sunday/
END:VEVENT
BEGIN:VEVENT
DTSTART;TZID=America/New_York:20260601T090000
DTEND;TZID=America/New_York:20260601T110000
DTSTAMP:20260423T150027
CREATED:20230113T145846Z
LAST-MODIFIED:20230113T145846Z
UID:10003201-1780304400-1780311600@westoverepiscopalchurch.org
SUMMARY:Meals on Wheels
DESCRIPTION:Meals On Wheels (MOW) serves hot\, nutritious meals to the homebound elderly and/or disabled Monday through Friday.
URL:https://westoverepiscopalchurch.org/event/meals-on-wheels/2026-06-01/
END:VEVENT
BEGIN:VEVENT
DTSTART;TZID=America/New_York:20260602T090000
DTEND;TZID=America/New_York:20260602T110000
DTSTAMP:20260423T150027
CREATED:20230113T145846Z
LAST-MODIFIED:20230113T145846Z
UID:10003202-1780390800-1780398000@westoverepiscopalchurch.org
SUMMARY:Meals on Wheels
DESCRIPTION:Meals On Wheels (MOW) serves hot\, nutritious meals to the homebound elderly and/or disabled Monday through Friday.
URL:https://westoverepiscopalchurch.org/event/meals-on-wheels/2026-06-02/
END:VEVENT
BEGIN:VEVENT
DTSTART;TZID=America/New_York:20260603T090000
DTEND;TZID=America/New_York:20260603T110000
DTSTAMP:20260423T150027
CREATED:20230113T145846Z
LAST-MODIFIED:20230113T145846Z
UID:10003203-1780477200-1780484400@westoverepiscopalchurch.org
SUMMARY:Meals on Wheels
DESCRIPTION:Meals On Wheels (MOW) serves hot\, nutritious meals to the homebound elderly and/or disabled Monday through Friday.
URL:https://westoverepiscopalchurch.org/event/meals-on-wheels/2026-06-03/
END:VEVENT
BEGIN:VEVENT
DTSTART;TZID=America/New_York:20260604T090000
DTEND;TZID=America/New_York:20260604T110000
DTSTAMP:20260423T150027
CREATED:20230113T145846Z
LAST-MODIFIED:20230113T145846Z
UID:10003204-1780563600-1780570800@westoverepiscopalchurch.org
SUMMARY:Meals on Wheels
DESCRIPTION:Meals On Wheels (MOW) serves hot\, nutritious meals to the homebound elderly and/or disabled Monday through Friday.
URL:https://westoverepiscopalchurch.org/event/meals-on-wheels/2026-06-04/
END:VEVENT
BEGIN:VEVENT
DTSTART;TZID=America/New_York:20260605T090000
DTEND;TZID=America/New_York:20260605T110000
DTSTAMP:20260423T150027
CREATED:20230113T145846Z
LAST-MODIFIED:20230113T145846Z
UID:10003205-1780650000-1780657200@westoverepiscopalchurch.org
SUMMARY:Meals on Wheels
DESCRIPTION:Meals On Wheels (MOW) serves hot\, nutritious meals to the homebound elderly and/or disabled Monday through Friday.
URL:https://westoverepiscopalchurch.org/event/meals-on-wheels/2026-06-05/
END:VEVENT
END:VCALENDAR