BEGIN:VCALENDAR
VERSION:2.0
PRODID:-//Westover Episcopal Church - Charles City, VA - ECPv6.15.20//NONSGML v1.0//EN
CALSCALE:GREGORIAN
METHOD:PUBLISH
X-ORIGINAL-URL:https://westoverepiscopalchurch.org
X-WR-CALDESC:Events for Westover Episcopal Church - Charles City, VA
REFRESH-INTERVAL;VALUE=DURATION:PT1H
X-Robots-Tag:noindex
X-PUBLISHED-TTL:PT1H
BEGIN:VTIMEZONE
TZID:America/New_York
BEGIN:DAYLIGHT
TZOFFSETFROM:-0500
TZOFFSETTO:-0400
TZNAME:EDT
DTSTART:20260308T070000
END:DAYLIGHT
BEGIN:STANDARD
TZOFFSETFROM:-0400
TZOFFSETTO:-0500
TZNAME:EST
DTSTART:20261101T060000
END:STANDARD
BEGIN:DAYLIGHT
TZOFFSETFROM:-0500
TZOFFSETTO:-0400
TZNAME:EDT
DTSTART:20270314T070000
END:DAYLIGHT
BEGIN:STANDARD
TZOFFSETFROM:-0400
TZOFFSETTO:-0500
TZNAME:EST
DTSTART:20271107T060000
END:STANDARD
BEGIN:DAYLIGHT
TZOFFSETFROM:-0500
TZOFFSETTO:-0400
TZNAME:EDT
DTSTART:20280312T070000
END:DAYLIGHT
BEGIN:STANDARD
TZOFFSETFROM:-0400
TZOFFSETTO:-0500
TZNAME:EST
DTSTART:20281105T060000
END:STANDARD
END:VTIMEZONE
BEGIN:VEVENT
DTSTART;TZID=America/New_York:20270524T090000
DTEND;TZID=America/New_York:20270524T110000
DTSTAMP:20260424T091812
CREATED:20230113T145846Z
LAST-MODIFIED:20230113T145846Z
UID:10003456-1811149200-1811156400@westoverepiscopalchurch.org
SUMMARY:Meals on Wheels
DESCRIPTION:Meals On Wheels (MOW) serves hot\, nutritious meals to the homebound elderly and/or disabled Monday through Friday.
URL:https://westoverepiscopalchurch.org/event/meals-on-wheels/2027-05-24/
END:VEVENT
BEGIN:VEVENT
DTSTART;TZID=America/New_York:20270525T090000
DTEND;TZID=America/New_York:20270525T110000
DTSTAMP:20260424T091812
CREATED:20230113T145846Z
LAST-MODIFIED:20230113T145846Z
UID:10003457-1811235600-1811242800@westoverepiscopalchurch.org
SUMMARY:Meals on Wheels
DESCRIPTION:Meals On Wheels (MOW) serves hot\, nutritious meals to the homebound elderly and/or disabled Monday through Friday.
URL:https://westoverepiscopalchurch.org/event/meals-on-wheels/2027-05-25/
END:VEVENT
BEGIN:VEVENT
DTSTART;TZID=America/New_York:20270526T090000
DTEND;TZID=America/New_York:20270526T110000
DTSTAMP:20260424T091812
CREATED:20230113T145846Z
LAST-MODIFIED:20230113T145846Z
UID:10003458-1811322000-1811329200@westoverepiscopalchurch.org
SUMMARY:Meals on Wheels
DESCRIPTION:Meals On Wheels (MOW) serves hot\, nutritious meals to the homebound elderly and/or disabled Monday through Friday.
URL:https://westoverepiscopalchurch.org/event/meals-on-wheels/2027-05-26/
END:VEVENT
BEGIN:VEVENT
DTSTART;TZID=America/New_York:20270527T090000
DTEND;TZID=America/New_York:20270527T110000
DTSTAMP:20260424T091812
CREATED:20230113T145846Z
LAST-MODIFIED:20230113T145846Z
UID:10003459-1811408400-1811415600@westoverepiscopalchurch.org
SUMMARY:Meals on Wheels
DESCRIPTION:Meals On Wheels (MOW) serves hot\, nutritious meals to the homebound elderly and/or disabled Monday through Friday.
URL:https://westoverepiscopalchurch.org/event/meals-on-wheels/2027-05-27/
END:VEVENT
BEGIN:VEVENT
DTSTART;TZID=America/New_York:20270528T090000
DTEND;TZID=America/New_York:20270528T110000
DTSTAMP:20260424T091812
CREATED:20230113T145846Z
LAST-MODIFIED:20230113T145846Z
UID:10003460-1811494800-1811502000@westoverepiscopalchurch.org
SUMMARY:Meals on Wheels
DESCRIPTION:Meals On Wheels (MOW) serves hot\, nutritious meals to the homebound elderly and/or disabled Monday through Friday.
URL:https://westoverepiscopalchurch.org/event/meals-on-wheels/2027-05-28/
END:VEVENT
END:VCALENDAR