BEGIN:VCALENDAR
VERSION:2.0
PRODID:-//Westover Episcopal Church - Charles City, VA - ECPv6.15.20//NONSGML v1.0//EN
CALSCALE:GREGORIAN
METHOD:PUBLISH
X-WR-CALNAME:Westover Episcopal Church - Charles City, VA
X-ORIGINAL-URL:https://westoverepiscopalchurch.org
X-WR-CALDESC:Events for Westover Episcopal Church - Charles City, VA
REFRESH-INTERVAL;VALUE=DURATION:PT1H
X-Robots-Tag:noindex
X-PUBLISHED-TTL:PT1H
BEGIN:VTIMEZONE
TZID:America/New_York
BEGIN:DAYLIGHT
TZOFFSETFROM:-0500
TZOFFSETTO:-0400
TZNAME:EDT
DTSTART:20260308T070000
END:DAYLIGHT
BEGIN:STANDARD
TZOFFSETFROM:-0400
TZOFFSETTO:-0500
TZNAME:EST
DTSTART:20261101T060000
END:STANDARD
BEGIN:DAYLIGHT
TZOFFSETFROM:-0500
TZOFFSETTO:-0400
TZNAME:EDT
DTSTART:20270314T070000
END:DAYLIGHT
BEGIN:STANDARD
TZOFFSETFROM:-0400
TZOFFSETTO:-0500
TZNAME:EST
DTSTART:20271107T060000
END:STANDARD
BEGIN:DAYLIGHT
TZOFFSETFROM:-0500
TZOFFSETTO:-0400
TZNAME:EDT
DTSTART:20280312T070000
END:DAYLIGHT
BEGIN:STANDARD
TZOFFSETFROM:-0400
TZOFFSETTO:-0500
TZNAME:EST
DTSTART:20281105T060000
END:STANDARD
END:VTIMEZONE
BEGIN:VEVENT
DTSTART;TZID=America/New_York:20270628T090000
DTEND;TZID=America/New_York:20270628T110000
DTSTAMP:20260424T122604
CREATED:20230113T145846Z
LAST-MODIFIED:20230113T145846Z
UID:10003481-1814173200-1814180400@westoverepiscopalchurch.org
SUMMARY:Meals on Wheels
DESCRIPTION:Meals On Wheels (MOW) serves hot\, nutritious meals to the homebound elderly and/or disabled Monday through Friday.
URL:https://westoverepiscopalchurch.org/event/meals-on-wheels/2027-06-28/
END:VEVENT
BEGIN:VEVENT
DTSTART;TZID=America/New_York:20270629T090000
DTEND;TZID=America/New_York:20270629T110000
DTSTAMP:20260424T122604
CREATED:20230113T145846Z
LAST-MODIFIED:20230113T145846Z
UID:10003482-1814259600-1814266800@westoverepiscopalchurch.org
SUMMARY:Meals on Wheels
DESCRIPTION:Meals On Wheels (MOW) serves hot\, nutritious meals to the homebound elderly and/or disabled Monday through Friday.
URL:https://westoverepiscopalchurch.org/event/meals-on-wheels/2027-06-29/
END:VEVENT
BEGIN:VEVENT
DTSTART;TZID=America/New_York:20270630T090000
DTEND;TZID=America/New_York:20270630T110000
DTSTAMP:20260424T122604
CREATED:20230113T145846Z
LAST-MODIFIED:20230113T145846Z
UID:10003483-1814346000-1814353200@westoverepiscopalchurch.org
SUMMARY:Meals on Wheels
DESCRIPTION:Meals On Wheels (MOW) serves hot\, nutritious meals to the homebound elderly and/or disabled Monday through Friday.
URL:https://westoverepiscopalchurch.org/event/meals-on-wheels/2027-06-30/
END:VEVENT
BEGIN:VEVENT
DTSTART;TZID=America/New_York:20270701T090000
DTEND;TZID=America/New_York:20270701T110000
DTSTAMP:20260424T122604
CREATED:20230113T145846Z
LAST-MODIFIED:20230113T145846Z
UID:10003484-1814432400-1814439600@westoverepiscopalchurch.org
SUMMARY:Meals on Wheels
DESCRIPTION:Meals On Wheels (MOW) serves hot\, nutritious meals to the homebound elderly and/or disabled Monday through Friday.
URL:https://westoverepiscopalchurch.org/event/meals-on-wheels/2027-07-01/
END:VEVENT
BEGIN:VEVENT
DTSTART;TZID=America/New_York:20270702T090000
DTEND;TZID=America/New_York:20270702T110000
DTSTAMP:20260424T122604
CREATED:20230113T145846Z
LAST-MODIFIED:20230113T145846Z
UID:10003485-1814518800-1814526000@westoverepiscopalchurch.org
SUMMARY:Meals on Wheels
DESCRIPTION:Meals On Wheels (MOW) serves hot\, nutritious meals to the homebound elderly and/or disabled Monday through Friday.
URL:https://westoverepiscopalchurch.org/event/meals-on-wheels/2027-07-02/
END:VEVENT
END:VCALENDAR