BEGIN:VCALENDAR
VERSION:2.0
PRODID:-//Westover Episcopal Church - Charles City, VA - ECPv6.15.20//NONSGML v1.0//EN
CALSCALE:GREGORIAN
METHOD:PUBLISH
X-ORIGINAL-URL:https://westoverepiscopalchurch.org
X-WR-CALDESC:Events for Westover Episcopal Church - Charles City, VA
REFRESH-INTERVAL;VALUE=DURATION:PT1H
X-Robots-Tag:noindex
X-PUBLISHED-TTL:PT1H
BEGIN:VTIMEZONE
TZID:America/New_York
BEGIN:DAYLIGHT
TZOFFSETFROM:-0500
TZOFFSETTO:-0400
TZNAME:EDT
DTSTART:20260308T070000
END:DAYLIGHT
BEGIN:STANDARD
TZOFFSETFROM:-0400
TZOFFSETTO:-0500
TZNAME:EST
DTSTART:20261101T060000
END:STANDARD
BEGIN:DAYLIGHT
TZOFFSETFROM:-0500
TZOFFSETTO:-0400
TZNAME:EDT
DTSTART:20270314T070000
END:DAYLIGHT
BEGIN:STANDARD
TZOFFSETFROM:-0400
TZOFFSETTO:-0500
TZNAME:EST
DTSTART:20271107T060000
END:STANDARD
BEGIN:DAYLIGHT
TZOFFSETFROM:-0500
TZOFFSETTO:-0400
TZNAME:EDT
DTSTART:20280312T070000
END:DAYLIGHT
BEGIN:STANDARD
TZOFFSETFROM:-0400
TZOFFSETTO:-0500
TZNAME:EST
DTSTART:20281105T060000
END:STANDARD
END:VTIMEZONE
BEGIN:VEVENT
DTSTART;TZID=America/New_York:20271004T090000
DTEND;TZID=America/New_York:20271004T110000
DTSTAMP:20260424T182506
CREATED:20230113T145846Z
LAST-MODIFIED:20230113T145846Z
UID:10003551-1822640400-1822647600@westoverepiscopalchurch.org
SUMMARY:Meals on Wheels
DESCRIPTION:Meals On Wheels (MOW) serves hot\, nutritious meals to the homebound elderly and/or disabled Monday through Friday.
URL:https://westoverepiscopalchurch.org/event/meals-on-wheels/2027-10-04/
END:VEVENT
BEGIN:VEVENT
DTSTART;TZID=America/New_York:20271005T090000
DTEND;TZID=America/New_York:20271005T110000
DTSTAMP:20260424T182506
CREATED:20230113T145846Z
LAST-MODIFIED:20230113T145846Z
UID:10003552-1822726800-1822734000@westoverepiscopalchurch.org
SUMMARY:Meals on Wheels
DESCRIPTION:Meals On Wheels (MOW) serves hot\, nutritious meals to the homebound elderly and/or disabled Monday through Friday.
URL:https://westoverepiscopalchurch.org/event/meals-on-wheels/2027-10-05/
END:VEVENT
BEGIN:VEVENT
DTSTART;TZID=America/New_York:20271006T090000
DTEND;TZID=America/New_York:20271006T110000
DTSTAMP:20260424T182506
CREATED:20230113T145846Z
LAST-MODIFIED:20230113T145846Z
UID:10003553-1822813200-1822820400@westoverepiscopalchurch.org
SUMMARY:Meals on Wheels
DESCRIPTION:Meals On Wheels (MOW) serves hot\, nutritious meals to the homebound elderly and/or disabled Monday through Friday.
URL:https://westoverepiscopalchurch.org/event/meals-on-wheels/2027-10-06/
END:VEVENT
BEGIN:VEVENT
DTSTART;TZID=America/New_York:20271007T090000
DTEND;TZID=America/New_York:20271007T110000
DTSTAMP:20260424T182506
CREATED:20230113T145846Z
LAST-MODIFIED:20230113T145846Z
UID:10003554-1822899600-1822906800@westoverepiscopalchurch.org
SUMMARY:Meals on Wheels
DESCRIPTION:Meals On Wheels (MOW) serves hot\, nutritious meals to the homebound elderly and/or disabled Monday through Friday.
URL:https://westoverepiscopalchurch.org/event/meals-on-wheels/2027-10-07/
END:VEVENT
BEGIN:VEVENT
DTSTART;TZID=America/New_York:20271008T090000
DTEND;TZID=America/New_York:20271008T110000
DTSTAMP:20260424T182506
CREATED:20230113T145846Z
LAST-MODIFIED:20230113T145846Z
UID:10003555-1822986000-1822993200@westoverepiscopalchurch.org
SUMMARY:Meals on Wheels
DESCRIPTION:Meals On Wheels (MOW) serves hot\, nutritious meals to the homebound elderly and/or disabled Monday through Friday.
URL:https://westoverepiscopalchurch.org/event/meals-on-wheels/2027-10-08/
END:VEVENT
END:VCALENDAR