BEGIN:VCALENDAR
VERSION:2.0
PRODID:-//Westover Episcopal Church - Charles City, VA - ECPv6.15.20//NONSGML v1.0//EN
CALSCALE:GREGORIAN
METHOD:PUBLISH
X-WR-CALNAME:Westover Episcopal Church - Charles City, VA
X-ORIGINAL-URL:https://westoverepiscopalchurch.org
X-WR-CALDESC:Events for Westover Episcopal Church - Charles City, VA
REFRESH-INTERVAL;VALUE=DURATION:PT1H
X-Robots-Tag:noindex
X-PUBLISHED-TTL:PT1H
BEGIN:VTIMEZONE
TZID:America/New_York
BEGIN:DAYLIGHT
TZOFFSETFROM:-0500
TZOFFSETTO:-0400
TZNAME:EDT
DTSTART:20270314T070000
END:DAYLIGHT
BEGIN:STANDARD
TZOFFSETFROM:-0400
TZOFFSETTO:-0500
TZNAME:EST
DTSTART:20271107T060000
END:STANDARD
BEGIN:DAYLIGHT
TZOFFSETFROM:-0500
TZOFFSETTO:-0400
TZNAME:EDT
DTSTART:20280312T070000
END:DAYLIGHT
BEGIN:STANDARD
TZOFFSETFROM:-0400
TZOFFSETTO:-0500
TZNAME:EST
DTSTART:20281105T060000
END:STANDARD
BEGIN:DAYLIGHT
TZOFFSETFROM:-0500
TZOFFSETTO:-0400
TZNAME:EDT
DTSTART:20290311T070000
END:DAYLIGHT
BEGIN:STANDARD
TZOFFSETFROM:-0400
TZOFFSETTO:-0500
TZNAME:EST
DTSTART:20291104T060000
END:STANDARD
END:VTIMEZONE
BEGIN:VEVENT
DTSTART;TZID=America/New_York:20281211T090000
DTEND;TZID=America/New_York:20281211T110000
DTSTAMP:20260425T142356
CREATED:20230113T145846Z
LAST-MODIFIED:20230113T145846Z
UID:10003861-1860138000-1860145200@westoverepiscopalchurch.org
SUMMARY:Meals on Wheels
DESCRIPTION:Meals On Wheels (MOW) serves hot\, nutritious meals to the homebound elderly and/or disabled Monday through Friday.
URL:https://westoverepiscopalchurch.org/event/meals-on-wheels/2028-12-11/
END:VEVENT
BEGIN:VEVENT
DTSTART;TZID=America/New_York:20281212T090000
DTEND;TZID=America/New_York:20281212T110000
DTSTAMP:20260425T142356
CREATED:20230113T145846Z
LAST-MODIFIED:20230113T145846Z
UID:10003862-1860224400-1860231600@westoverepiscopalchurch.org
SUMMARY:Meals on Wheels
DESCRIPTION:Meals On Wheels (MOW) serves hot\, nutritious meals to the homebound elderly and/or disabled Monday through Friday.
URL:https://westoverepiscopalchurch.org/event/meals-on-wheels/2028-12-12/
END:VEVENT
BEGIN:VEVENT
DTSTART;TZID=America/New_York:20281213T090000
DTEND;TZID=America/New_York:20281213T110000
DTSTAMP:20260425T142356
CREATED:20230113T145846Z
LAST-MODIFIED:20230113T145846Z
UID:10003863-1860310800-1860318000@westoverepiscopalchurch.org
SUMMARY:Meals on Wheels
DESCRIPTION:Meals On Wheels (MOW) serves hot\, nutritious meals to the homebound elderly and/or disabled Monday through Friday.
URL:https://westoverepiscopalchurch.org/event/meals-on-wheels/2028-12-13/
END:VEVENT
BEGIN:VEVENT
DTSTART;TZID=America/New_York:20281214T090000
DTEND;TZID=America/New_York:20281214T110000
DTSTAMP:20260425T142356
CREATED:20230113T145846Z
LAST-MODIFIED:20230113T145846Z
UID:10003864-1860397200-1860404400@westoverepiscopalchurch.org
SUMMARY:Meals on Wheels
DESCRIPTION:Meals On Wheels (MOW) serves hot\, nutritious meals to the homebound elderly and/or disabled Monday through Friday.
URL:https://westoverepiscopalchurch.org/event/meals-on-wheels/2028-12-14/
END:VEVENT
BEGIN:VEVENT
DTSTART;TZID=America/New_York:20281215T090000
DTEND;TZID=America/New_York:20281215T110000
DTSTAMP:20260425T142356
CREATED:20230113T145846Z
LAST-MODIFIED:20230113T145846Z
UID:10003865-1860483600-1860490800@westoverepiscopalchurch.org
SUMMARY:Meals on Wheels
DESCRIPTION:Meals On Wheels (MOW) serves hot\, nutritious meals to the homebound elderly and/or disabled Monday through Friday.
URL:https://westoverepiscopalchurch.org/event/meals-on-wheels/2028-12-15/
END:VEVENT
END:VCALENDAR