BEGIN:VCALENDAR
VERSION:2.0
PRODID:-//Westover Episcopal Church - Charles City, VA - ECPv6.15.20//NONSGML v1.0//EN
CALSCALE:GREGORIAN
METHOD:PUBLISH
X-WR-CALNAME:Westover Episcopal Church - Charles City, VA
X-ORIGINAL-URL:https://westoverepiscopalchurch.org
X-WR-CALDESC:Events for Westover Episcopal Church - Charles City, VA
REFRESH-INTERVAL;VALUE=DURATION:PT1H
X-Robots-Tag:noindex
X-PUBLISHED-TTL:PT1H
BEGIN:VTIMEZONE
TZID:America/New_York
BEGIN:DAYLIGHT
TZOFFSETFROM:-0500
TZOFFSETTO:-0400
TZNAME:EDT
DTSTART:20270314T070000
END:DAYLIGHT
BEGIN:STANDARD
TZOFFSETFROM:-0400
TZOFFSETTO:-0500
TZNAME:EST
DTSTART:20271107T060000
END:STANDARD
BEGIN:DAYLIGHT
TZOFFSETFROM:-0500
TZOFFSETTO:-0400
TZNAME:EDT
DTSTART:20280312T070000
END:DAYLIGHT
BEGIN:STANDARD
TZOFFSETFROM:-0400
TZOFFSETTO:-0500
TZNAME:EST
DTSTART:20281105T060000
END:STANDARD
BEGIN:DAYLIGHT
TZOFFSETFROM:-0500
TZOFFSETTO:-0400
TZNAME:EDT
DTSTART:20290311T070000
END:DAYLIGHT
BEGIN:STANDARD
TZOFFSETFROM:-0400
TZOFFSETTO:-0500
TZNAME:EST
DTSTART:20291104T060000
END:STANDARD
END:VTIMEZONE
BEGIN:VEVENT
DTSTART;TZID=America/New_York:20281218T090000
DTEND;TZID=America/New_York:20281218T110000
DTSTAMP:20260425T142357
CREATED:20230113T145846Z
LAST-MODIFIED:20230113T145846Z
UID:10003866-1860742800-1860750000@westoverepiscopalchurch.org
SUMMARY:Meals on Wheels
DESCRIPTION:Meals On Wheels (MOW) serves hot\, nutritious meals to the homebound elderly and/or disabled Monday through Friday.
URL:https://westoverepiscopalchurch.org/event/meals-on-wheels/2028-12-18/
END:VEVENT
BEGIN:VEVENT
DTSTART;TZID=America/New_York:20281219T090000
DTEND;TZID=America/New_York:20281219T110000
DTSTAMP:20260425T142357
CREATED:20230113T145846Z
LAST-MODIFIED:20230113T145846Z
UID:10003867-1860829200-1860836400@westoverepiscopalchurch.org
SUMMARY:Meals on Wheels
DESCRIPTION:Meals On Wheels (MOW) serves hot\, nutritious meals to the homebound elderly and/or disabled Monday through Friday.
URL:https://westoverepiscopalchurch.org/event/meals-on-wheels/2028-12-19/
END:VEVENT
BEGIN:VEVENT
DTSTART;TZID=America/New_York:20281220T090000
DTEND;TZID=America/New_York:20281220T110000
DTSTAMP:20260425T142357
CREATED:20230113T145846Z
LAST-MODIFIED:20230113T145846Z
UID:10003868-1860915600-1860922800@westoverepiscopalchurch.org
SUMMARY:Meals on Wheels
DESCRIPTION:Meals On Wheels (MOW) serves hot\, nutritious meals to the homebound elderly and/or disabled Monday through Friday.
URL:https://westoverepiscopalchurch.org/event/meals-on-wheels/2028-12-20/
END:VEVENT
BEGIN:VEVENT
DTSTART;TZID=America/New_York:20281221T090000
DTEND;TZID=America/New_York:20281221T110000
DTSTAMP:20260425T142357
CREATED:20230113T145846Z
LAST-MODIFIED:20230113T145846Z
UID:10003869-1861002000-1861009200@westoverepiscopalchurch.org
SUMMARY:Meals on Wheels
DESCRIPTION:Meals On Wheels (MOW) serves hot\, nutritious meals to the homebound elderly and/or disabled Monday through Friday.
URL:https://westoverepiscopalchurch.org/event/meals-on-wheels/2028-12-21/
END:VEVENT
BEGIN:VEVENT
DTSTART;TZID=America/New_York:20281222T090000
DTEND;TZID=America/New_York:20281222T110000
DTSTAMP:20260425T142357
CREATED:20230113T145846Z
LAST-MODIFIED:20230113T145846Z
UID:10003870-1861088400-1861095600@westoverepiscopalchurch.org
SUMMARY:Meals on Wheels
DESCRIPTION:Meals On Wheels (MOW) serves hot\, nutritious meals to the homebound elderly and/or disabled Monday through Friday.
URL:https://westoverepiscopalchurch.org/event/meals-on-wheels/2028-12-22/
END:VEVENT
END:VCALENDAR