BEGIN:VCALENDAR
VERSION:2.0
PRODID:-//Westover Episcopal Church - Charles City, VA - ECPv6.15.20//NONSGML v1.0//EN
CALSCALE:GREGORIAN
METHOD:PUBLISH
X-WR-CALNAME:Westover Episcopal Church - Charles City, VA
X-ORIGINAL-URL:https://westoverepiscopalchurch.org
X-WR-CALDESC:Events for Westover Episcopal Church - Charles City, VA
REFRESH-INTERVAL;VALUE=DURATION:PT1H
X-Robots-Tag:noindex
X-PUBLISHED-TTL:PT1H
BEGIN:VTIMEZONE
TZID:America/New_York
BEGIN:DAYLIGHT
TZOFFSETFROM:-0500
TZOFFSETTO:-0400
TZNAME:EDT
DTSTART:20270314T070000
END:DAYLIGHT
BEGIN:STANDARD
TZOFFSETFROM:-0400
TZOFFSETTO:-0500
TZNAME:EST
DTSTART:20271107T060000
END:STANDARD
BEGIN:DAYLIGHT
TZOFFSETFROM:-0500
TZOFFSETTO:-0400
TZNAME:EDT
DTSTART:20280312T070000
END:DAYLIGHT
BEGIN:STANDARD
TZOFFSETFROM:-0400
TZOFFSETTO:-0500
TZNAME:EST
DTSTART:20281105T060000
END:STANDARD
BEGIN:DAYLIGHT
TZOFFSETFROM:-0500
TZOFFSETTO:-0400
TZNAME:EDT
DTSTART:20290311T070000
END:DAYLIGHT
BEGIN:STANDARD
TZOFFSETFROM:-0400
TZOFFSETTO:-0500
TZNAME:EST
DTSTART:20291104T060000
END:STANDARD
END:VTIMEZONE
BEGIN:VEVENT
DTSTART;TZID=America/New_York:20281225T090000
DTEND;TZID=America/New_York:20281225T110000
DTSTAMP:20260425T142357
CREATED:20230113T145846Z
LAST-MODIFIED:20230113T145846Z
UID:10003871-1861347600-1861354800@westoverepiscopalchurch.org
SUMMARY:Meals on Wheels
DESCRIPTION:Meals On Wheels (MOW) serves hot\, nutritious meals to the homebound elderly and/or disabled Monday through Friday.
URL:https://westoverepiscopalchurch.org/event/meals-on-wheels/2028-12-25/
END:VEVENT
BEGIN:VEVENT
DTSTART;TZID=America/New_York:20281226T090000
DTEND;TZID=America/New_York:20281226T110000
DTSTAMP:20260425T142357
CREATED:20230113T145846Z
LAST-MODIFIED:20230113T145846Z
UID:10003872-1861434000-1861441200@westoverepiscopalchurch.org
SUMMARY:Meals on Wheels
DESCRIPTION:Meals On Wheels (MOW) serves hot\, nutritious meals to the homebound elderly and/or disabled Monday through Friday.
URL:https://westoverepiscopalchurch.org/event/meals-on-wheels/2028-12-26/
END:VEVENT
BEGIN:VEVENT
DTSTART;TZID=America/New_York:20281227T090000
DTEND;TZID=America/New_York:20281227T110000
DTSTAMP:20260425T142357
CREATED:20230113T145846Z
LAST-MODIFIED:20230113T145846Z
UID:10003873-1861520400-1861527600@westoverepiscopalchurch.org
SUMMARY:Meals on Wheels
DESCRIPTION:Meals On Wheels (MOW) serves hot\, nutritious meals to the homebound elderly and/or disabled Monday through Friday.
URL:https://westoverepiscopalchurch.org/event/meals-on-wheels/2028-12-27/
END:VEVENT
BEGIN:VEVENT
DTSTART;TZID=America/New_York:20281228T090000
DTEND;TZID=America/New_York:20281228T110000
DTSTAMP:20260425T142357
CREATED:20230113T145846Z
LAST-MODIFIED:20230113T145846Z
UID:10003874-1861606800-1861614000@westoverepiscopalchurch.org
SUMMARY:Meals on Wheels
DESCRIPTION:Meals On Wheels (MOW) serves hot\, nutritious meals to the homebound elderly and/or disabled Monday through Friday.
URL:https://westoverepiscopalchurch.org/event/meals-on-wheels/2028-12-28/
END:VEVENT
BEGIN:VEVENT
DTSTART;TZID=America/New_York:20281229T090000
DTEND;TZID=America/New_York:20281229T110000
DTSTAMP:20260425T142357
CREATED:20230113T145846Z
LAST-MODIFIED:20230113T145846Z
UID:10003875-1861693200-1861700400@westoverepiscopalchurch.org
SUMMARY:Meals on Wheels
DESCRIPTION:Meals On Wheels (MOW) serves hot\, nutritious meals to the homebound elderly and/or disabled Monday through Friday.
URL:https://westoverepiscopalchurch.org/event/meals-on-wheels/2028-12-29/
END:VEVENT
END:VCALENDAR