BEGIN:VCALENDAR
VERSION:2.0
PRODID:-//Westover Episcopal Church - Charles City, VA - ECPv6.15.20//NONSGML v1.0//EN
CALSCALE:GREGORIAN
METHOD:PUBLISH
X-ORIGINAL-URL:https://westoverepiscopalchurch.org
X-WR-CALDESC:Events for Westover Episcopal Church - Charles City, VA
REFRESH-INTERVAL;VALUE=DURATION:PT1H
X-Robots-Tag:noindex
X-PUBLISHED-TTL:PT1H
BEGIN:VTIMEZONE
TZID:America/New_York
BEGIN:DAYLIGHT
TZOFFSETFROM:-0500
TZOFFSETTO:-0400
TZNAME:EDT
DTSTART:20230312T070000
END:DAYLIGHT
BEGIN:STANDARD
TZOFFSETFROM:-0400
TZOFFSETTO:-0500
TZNAME:EST
DTSTART:20231105T060000
END:STANDARD
BEGIN:DAYLIGHT
TZOFFSETFROM:-0500
TZOFFSETTO:-0400
TZNAME:EDT
DTSTART:20240310T070000
END:DAYLIGHT
BEGIN:STANDARD
TZOFFSETFROM:-0400
TZOFFSETTO:-0500
TZNAME:EST
DTSTART:20241103T060000
END:STANDARD
BEGIN:DAYLIGHT
TZOFFSETFROM:-0500
TZOFFSETTO:-0400
TZNAME:EDT
DTSTART:20250309T070000
END:DAYLIGHT
BEGIN:STANDARD
TZOFFSETFROM:-0400
TZOFFSETTO:-0500
TZNAME:EST
DTSTART:20251102T060000
END:STANDARD
BEGIN:DAYLIGHT
TZOFFSETFROM:-0500
TZOFFSETTO:-0400
TZNAME:EDT
DTSTART:20260308T070000
END:DAYLIGHT
BEGIN:STANDARD
TZOFFSETFROM:-0400
TZOFFSETTO:-0500
TZNAME:EST
DTSTART:20261101T060000
END:STANDARD
BEGIN:DAYLIGHT
TZOFFSETFROM:-0500
TZOFFSETTO:-0400
TZNAME:EDT
DTSTART:20270314T070000
END:DAYLIGHT
BEGIN:STANDARD
TZOFFSETFROM:-0400
TZOFFSETTO:-0500
TZNAME:EST
DTSTART:20271107T060000
END:STANDARD
END:VTIMEZONE
BEGIN:VEVENT
DTSTART;VALUE=DATE:20260419
DTEND;VALUE=DATE:20260421
DTSTAMP:20260423T152313
CREATED:20260216T225545Z
LAST-MODIFIED:20260216T225651Z
UID:10004431-1776556800-1776729599@westoverepiscopalchurch.org
SUMMARY:Historic Garden Week at Westover Church
DESCRIPTION:Box Lunches – Church Tours\nCome join us for Historic Garden Week at Westover Church. Enjoy tours of the historic Westover Church and box lunches.  \nSunday April 19 & Monday April 20\nChurch Tours\, 11:30 am – 2:00 pm\nBox Lunch Pickup\, 11:30 am – 1:00 pm \nBox Lunches\nBox lunches will be available for purchase each day for $20.  Box lunches can be purchased ahead of time online before April 19th to guarantee your reservation. There will be a limited number of lunches available for purchase the day of the tours. Purchase a Box Lunch \nChurch Tours\nThe historic Westover Church will be open to visitors each day from 11am – 2pm. There will be docents on site to interpret the church history for visitors. Tickets are not required for tours of Westover Church. \nGarden Week Tours of Historic Berkeley\, Shirley and Westover\nPresented by the Garden Club of Virginia\, Historic Garden Week features tours of private landscapes\, public gardens and historic sites across Virginia. For more information on these tours visit Historic Garden Week. Berkeley\, Shirley\, and Westover were all settled in the early 1600s as tobacco plantations\, with Westover Church serving as the local parish. Purchase Garden Week Tour tickets \n\nProceeds from boxed lunches support Westover Church. Proceeds from Garden Tour Tickets fund the restoration and preservation of Virginia’s historic public gardens and a research fellowship program in landscape architecture.
URL:https://westoverepiscopalchurch.org/event/historic-garden-week-at-westover-church-2026/
LOCATION:Westover Episcopal Church\, 6401 John Tyler Hwy.\, Charles City\, VA\, 23030\, United States
ATTACH;FMTTYPE=image/jpeg:https://westoverepiscopalchurch.org/wp-content/uploads/2018/03/westover-church-unknown-photog.jpg
END:VEVENT
BEGIN:VEVENT
DTSTART;TZID=America/New_York:20260405T100000
DTEND;TZID=America/New_York:20260405T110000
DTSTAMP:20260423T152313
CREATED:20251230T153415Z
LAST-MODIFIED:20251230T153415Z
UID:10002210-1775383200-1775386800@westoverepiscopalchurch.org
SUMMARY:Easter Sunday Service followed by the Easter Egg Hunt
DESCRIPTION:
URL:https://westoverepiscopalchurch.org/event/easter-sunday-service-followed-by-the-easter-egg-hunt/
LOCATION:Westover Episcopal Church\, 6401 John Tyler Hwy.\, Charles City\, VA\, 23030\, United States
END:VEVENT
BEGIN:VEVENT
DTSTART;TZID=America/New_York:20260403T120000
DTEND;TZID=America/New_York:20260403T130000
DTSTAMP:20260423T152313
CREATED:20251230T153519Z
LAST-MODIFIED:20251230T153519Z
UID:10002212-1775217600-1775221200@westoverepiscopalchurch.org
SUMMARY:Good Friday Service
DESCRIPTION:
URL:https://westoverepiscopalchurch.org/event/good-friday-service-4/
LOCATION:Westover Episcopal Church\, 6401 John Tyler Hwy.\, Charles City\, VA\, 23030\, United States
END:VEVENT
BEGIN:VEVENT
DTSTART;TZID=America/New_York:20260402T180000
DTEND;TZID=America/New_York:20260402T190000
DTSTAMP:20260423T152313
CREATED:20251230T153448Z
LAST-MODIFIED:20251230T153448Z
UID:10002211-1775152800-1775156400@westoverepiscopalchurch.org
SUMMARY:Maundy Thursday Service
DESCRIPTION:
URL:https://westoverepiscopalchurch.org/event/maundy-thursday-service-4/
LOCATION:Westover Episcopal Church\, 6401 John Tyler Hwy.\, Charles City\, VA\, 23030\, United States
END:VEVENT
BEGIN:VEVENT
DTSTART;TZID=America/New_York:20260329T100000
DTEND;TZID=America/New_York:20260329T110000
DTSTAMP:20260423T152313
CREATED:20251230T153329Z
LAST-MODIFIED:20251230T153329Z
UID:10002209-1774778400-1774782000@westoverepiscopalchurch.org
SUMMARY:Palm Sunday Service
DESCRIPTION:
URL:https://westoverepiscopalchurch.org/event/palm-sunday-service-3/
LOCATION:Westover Episcopal Church\, 6401 John Tyler Hwy.\, Charles City\, VA\, 23030\, United States
END:VEVENT
BEGIN:VEVENT
DTSTART;TZID=America/New_York:20260322T173000
DTEND;TZID=America/New_York:20260322T183000
DTSTAMP:20260423T152313
CREATED:20251230T153303Z
LAST-MODIFIED:20260319T124917Z
UID:10002208-1774200600-1774204200@westoverepiscopalchurch.org
SUMMARY:Candlelight Celtic Service
DESCRIPTION:The service will be followed by a Potluck Dinner.
URL:https://westoverepiscopalchurch.org/event/fifth-sunday-in-lent-service-2/
LOCATION:Westover Episcopal Church\, 6401 John Tyler Hwy.\, Charles City\, VA\, 23030\, United States
END:VEVENT
BEGIN:VEVENT
DTSTART;TZID=America/New_York:20260315T100000
DTEND;TZID=America/New_York:20260315T110000
DTSTAMP:20260423T152313
CREATED:20251230T153223Z
LAST-MODIFIED:20251230T153223Z
UID:10002207-1773568800-1773572400@westoverepiscopalchurch.org
SUMMARY:Fourth Sunday in Lent Service
DESCRIPTION:
URL:https://westoverepiscopalchurch.org/event/fourth-sunday-in-lent-service-3/
LOCATION:Westover Episcopal Church\, 6401 John Tyler Hwy.\, Charles City\, VA\, 23030\, United States
END:VEVENT
BEGIN:VEVENT
DTSTART;TZID=America/New_York:20260308T100000
DTEND;TZID=America/New_York:20260308T110000
DTSTAMP:20260423T152313
CREATED:20251230T153140Z
LAST-MODIFIED:20251230T153140Z
UID:10002206-1772964000-1772967600@westoverepiscopalchurch.org
SUMMARY:Third Sunday in Lent Service
DESCRIPTION:
URL:https://westoverepiscopalchurch.org/event/third-sunday-in-lent-service-3/
LOCATION:Westover Episcopal Church\, 6401 John Tyler Hwy.\, Charles City\, VA\, 23030\, United States
END:VEVENT
BEGIN:VEVENT
DTSTART;TZID=America/New_York:20260301T100000
DTEND;TZID=America/New_York:20260301T110000
DTSTAMP:20260423T152313
CREATED:20251230T153105Z
LAST-MODIFIED:20251230T153105Z
UID:10002205-1772359200-1772362800@westoverepiscopalchurch.org
SUMMARY:Second Sunday in Lent Service
DESCRIPTION:
URL:https://westoverepiscopalchurch.org/event/second-sunday-in-lent-service-3/
LOCATION:Westover Episcopal Church\, 6401 John Tyler Hwy.\, Charles City\, VA\, 23030\, United States
END:VEVENT
BEGIN:VEVENT
DTSTART;TZID=America/New_York:20260222T100000
DTEND;TZID=America/New_York:20260222T110000
DTSTAMP:20260423T152313
CREATED:20251230T152928Z
LAST-MODIFIED:20251230T152928Z
UID:10002203-1771754400-1771758000@westoverepiscopalchurch.org
SUMMARY:First Sunday of Lent Service
DESCRIPTION:
URL:https://westoverepiscopalchurch.org/event/first-sunday-of-lent-service/
LOCATION:Westover Episcopal Church\, 6401 John Tyler Hwy.\, Charles City\, VA\, 23030\, United States
END:VEVENT
BEGIN:VEVENT
DTSTART;TZID=America/New_York:20260218T180000
DTEND;TZID=America/New_York:20260218T190000
DTSTAMP:20260423T152313
CREATED:20251230T153007Z
LAST-MODIFIED:20251230T153007Z
UID:10002204-1771437600-1771441200@westoverepiscopalchurch.org
SUMMARY:Ash Wednesday Service
DESCRIPTION:
URL:https://westoverepiscopalchurch.org/event/ash-wednesday-service-2/
LOCATION:Westover Episcopal Church\, 6401 John Tyler Hwy.\, Charles City\, VA\, 23030\, United States
END:VEVENT
BEGIN:VEVENT
DTSTART;TZID=America/New_York:20260215T100000
DTEND;TZID=America/New_York:20260215T110000
DTSTAMP:20260423T152313
CREATED:20251230T152831Z
LAST-MODIFIED:20251230T152831Z
UID:10002202-1771149600-1771153200@westoverepiscopalchurch.org
SUMMARY:Last Sunday after the Epiphany Service
DESCRIPTION:
URL:https://westoverepiscopalchurch.org/event/last-sunday-after-the-epiphany-service-3/
LOCATION:Westover Episcopal Church\, 6401 John Tyler Hwy.\, Charles City\, VA\, 23030\, United States
END:VEVENT
BEGIN:VEVENT
DTSTART;TZID=America/New_York:20260208T100000
DTEND;TZID=America/New_York:20260208T110000
DTSTAMP:20260423T152313
CREATED:20251230T152801Z
LAST-MODIFIED:20251230T152801Z
UID:10002201-1770544800-1770548400@westoverepiscopalchurch.org
SUMMARY:Fifth Sunday after the Epiphany Service
DESCRIPTION:
URL:https://westoverepiscopalchurch.org/event/fifth-sunday-after-the-epiphany-service-3/
LOCATION:Westover Episcopal Church\, 6401 John Tyler Hwy.\, Charles City\, VA\, 23030\, United States
END:VEVENT
BEGIN:VEVENT
DTSTART;TZID=America/New_York:20260201T100000
DTEND;TZID=America/New_York:20260201T110000
DTSTAMP:20260423T152313
CREATED:20251230T152726Z
LAST-MODIFIED:20251230T152726Z
UID:10002200-1769940000-1769943600@westoverepiscopalchurch.org
SUMMARY:Fourth Sunday after the Epiphany Service
DESCRIPTION:
URL:https://westoverepiscopalchurch.org/event/fourth-sunday-after-the-epiphany-service-2/
LOCATION:Westover Episcopal Church\, 6401 John Tyler Hwy.\, Charles City\, VA\, 23030\, United States
END:VEVENT
BEGIN:VEVENT
DTSTART;TZID=America/New_York:20260125T100000
DTEND;TZID=America/New_York:20260125T110000
DTSTAMP:20260423T152313
CREATED:20251230T152649Z
LAST-MODIFIED:20251230T152649Z
UID:10002199-1769335200-1769338800@westoverepiscopalchurch.org
SUMMARY:Third Sunday after the Epiphany Service
DESCRIPTION:
URL:https://westoverepiscopalchurch.org/event/third-sunday-after-the-epiphany-service-3/
LOCATION:Westover Episcopal Church\, 6401 John Tyler Hwy.\, Charles City\, VA\, 23030\, United States
END:VEVENT
BEGIN:VEVENT
DTSTART;TZID=America/New_York:20260122T093000
DTEND;TZID=America/New_York:20260122T100000
DTSTAMP:20260423T152313
CREATED:20251230T155616Z
LAST-MODIFIED:20251230T155616Z
UID:10002214-1769074200-1769076000@westoverepiscopalchurch.org
SUMMARY:No Gentle Yoga with Rev. Becky Today
DESCRIPTION:
URL:https://westoverepiscopalchurch.org/event/no-gentle-yoga-with-rev-becky-today-3/
LOCATION:Westover Episcopal Church\, 6401 John Tyler Hwy.\, Charles City\, VA\, 23030\, United States
END:VEVENT
BEGIN:VEVENT
DTSTART;TZID=America/New_York:20260118T100000
DTEND;TZID=America/New_York:20260118T110000
DTSTAMP:20260423T152313
CREATED:20251230T152617Z
LAST-MODIFIED:20251230T152617Z
UID:10002198-1768730400-1768734000@westoverepiscopalchurch.org
SUMMARY:Second Sunday after the Epiphany Service
DESCRIPTION:
URL:https://westoverepiscopalchurch.org/event/second-sunday-after-the-epiphany-service-3/
LOCATION:Westover Episcopal Church\, 6401 John Tyler Hwy.\, Charles City\, VA\, 23030\, United States
END:VEVENT
BEGIN:VEVENT
DTSTART;TZID=America/New_York:20260111T100000
DTEND;TZID=America/New_York:20260111T110000
DTSTAMP:20260423T152313
CREATED:20251230T152542Z
LAST-MODIFIED:20251230T152542Z
UID:10002197-1768125600-1768129200@westoverepiscopalchurch.org
SUMMARY:First Sunday after the Epiphany Service
DESCRIPTION:
URL:https://westoverepiscopalchurch.org/event/first-sunday-after-the-epiphany-service-2/
LOCATION:Westover Episcopal Church\, 6401 John Tyler Hwy.\, Charles City\, VA\, 23030\, United States
END:VEVENT
BEGIN:VEVENT
DTSTART;TZID=America/New_York:20260108T093000
DTEND;TZID=America/New_York:20260108T100000
DTSTAMP:20260423T152313
CREATED:20251230T155050Z
LAST-MODIFIED:20251230T155050Z
UID:10002213-1767864600-1767866400@westoverepiscopalchurch.org
SUMMARY:No Gentle Yoga with Rev. Becky Today
DESCRIPTION:
URL:https://westoverepiscopalchurch.org/event/no-gentle-yoga-with-rev-becky-today-2/
LOCATION:Westover Episcopal Church\, 6401 John Tyler Hwy.\, Charles City\, VA\, 23030\, United States
END:VEVENT
BEGIN:VEVENT
DTSTART;TZID=America/New_York:20260104T100000
DTEND;TZID=America/New_York:20260104T110000
DTSTAMP:20260423T152313
CREATED:20251230T152501Z
LAST-MODIFIED:20251230T152501Z
UID:10002196-1767520800-1767524400@westoverepiscopalchurch.org
SUMMARY:The Feast of the Epiphany Service
DESCRIPTION:
URL:https://westoverepiscopalchurch.org/event/the-feast-of-the-epiphany-service-3/
LOCATION:Westover Episcopal Church\, 6401 John Tyler Hwy.\, Charles City\, VA\, 23030\, United States
END:VEVENT
BEGIN:VEVENT
DTSTART;VALUE=DATE:20250427
DTEND;VALUE=DATE:20250429
DTSTAMP:20260423T152313
CREATED:20250306T202237Z
LAST-MODIFIED:20250306T202314Z
UID:10002160-1745712000-1745884799@westoverepiscopalchurch.org
SUMMARY:Historic Garden Week at Westover Church
DESCRIPTION:Box Lunches – Church Tours\nCome join us for Historic Garden Week at Westover Church. Enjoy tours of the historic Westover Church and box lunches.  \nSunday 4/27\, 11 am – 3:00 pm | Monday 4/28\, 11 am – 3:00 pm \nBox Lunches\nBox lunches will be available for purchase each day.  Box lunches can be purchased ahead of time online before April 15th to guarantee your reservation. There will be a limited number of lunches available for purchase the day of the tours. Purchase a Box Lunch \nChurch Tours\nThe historic Westover Church will be open to visitors each day from 11am – 3pm. There will be docents on site to interpret the church history for visitors. Tickets are not required for tours of Westover Church. \nGarden Week Tours of Historic Berkeley\, Shirley and Westover\nPresented by the Garden Club of Virginia\, Historic Garden Week features tours of private landscapes\, public gardens and historic sites across Virginia. For more information on these tours visit Historic Garden Week. Berkeley\, Shirley\, and Westover were all settled in the early 1600s as tobacco plantations\, with Westover Church serving as the local parish. Purchase Garden Week Tour tickets \n\nProceeds from boxed lunches support Westover Church. Proceeds from Garden Tour Tickets fund the restoration and preservation of Virginia’s historic public gardens and a research fellowship program in landscape architecture.
URL:https://westoverepiscopalchurch.org/event/historic-garden-week-at-westover-church-2025/
LOCATION:Westover Episcopal Church\, 6401 John Tyler Hwy.\, Charles City\, VA\, 23030\, United States
ATTACH;FMTTYPE=image/jpeg:https://westoverepiscopalchurch.org/wp-content/uploads/2018/03/westover-church-unknown-photog.jpg
END:VEVENT
BEGIN:VEVENT
DTSTART;TZID=America/New_York:20240901T100000
DTEND;TZID=America/New_York:20240901T110000
DTSTAMP:20260423T152313
CREATED:20240924T173528Z
LAST-MODIFIED:20240924T173528Z
UID:10001483-1725184800-1725188400@westoverepiscopalchurch.org
SUMMARY:Fifteenth Sunday after Pentecost Service
DESCRIPTION:
URL:https://westoverepiscopalchurch.org/event/fifteenth-sunday-after-pentecost-service/
LOCATION:Westover Episcopal Church\, 6401 John Tyler Hwy.\, Charles City\, VA\, 23030\, United States
END:VEVENT
BEGIN:VEVENT
DTSTART;TZID=America/New_York:20240428T100000
DTEND;TZID=America/New_York:20240428T110000
DTSTAMP:20260423T152313
CREATED:20240307T151038Z
LAST-MODIFIED:20240307T151038Z
UID:10001461-1714298400-1714302000@westoverepiscopalchurch.org
SUMMARY:Fifth Sunday of Easter Service
DESCRIPTION:
URL:https://westoverepiscopalchurch.org/event/fifth-sunday-of-easter-service/
LOCATION:Westover Episcopal Church\, 6401 John Tyler Hwy.\, Charles City\, VA\, 23030\, United States
END:VEVENT
BEGIN:VEVENT
DTSTART;TZID=America/New_York:20240422T110000
DTEND;TZID=America/New_York:20240422T150000
DTSTAMP:20260423T152313
CREATED:20240307T151529Z
LAST-MODIFIED:20240307T151807Z
UID:10001463-1713783600-1713798000@westoverepiscopalchurch.org
SUMMARY:Historic Garden Week
DESCRIPTION:For more information\, go to Historic Garden Week
URL:https://westoverepiscopalchurch.org/event/historic-garden-week-4/
LOCATION:Westover Episcopal Church\, 6401 John Tyler Hwy.\, Charles City\, VA\, 23030\, United States
END:VEVENT
BEGIN:VEVENT
DTSTART;TZID=America/New_York:20240421T110000
DTEND;TZID=America/New_York:20240421T150000
DTSTAMP:20260423T152313
CREATED:20240307T151445Z
LAST-MODIFIED:20240307T151649Z
UID:10001462-1713697200-1713711600@westoverepiscopalchurch.org
SUMMARY:Historic Garden Week
DESCRIPTION:For more information\, go to Historic Garden Week
URL:https://westoverepiscopalchurch.org/event/historic-garden-week/
LOCATION:Westover Episcopal Church\, 6401 John Tyler Hwy.\, Charles City\, VA\, 23030\, United States
END:VEVENT
BEGIN:VEVENT
DTSTART;TZID=America/New_York:20240421T100000
DTEND;TZID=America/New_York:20240421T110000
DTSTAMP:20260423T152313
CREATED:20240307T150959Z
LAST-MODIFIED:20240307T150959Z
UID:10001460-1713693600-1713697200@westoverepiscopalchurch.org
SUMMARY:Fourth Sunday of Easter Service
DESCRIPTION:
URL:https://westoverepiscopalchurch.org/event/fourth-sunday-of-easter-service/
LOCATION:Westover Episcopal Church\, 6401 John Tyler Hwy.\, Charles City\, VA\, 23030\, United States
END:VEVENT
BEGIN:VEVENT
DTSTART;VALUE=DATE:20240421
DTEND;VALUE=DATE:20240423
DTSTAMP:20260423T152313
CREATED:20240228T154405Z
LAST-MODIFIED:20240301T143554Z
UID:10001451-1713657600-1713830399@westoverepiscopalchurch.org
SUMMARY:Historic Garden Week at Westover Church
DESCRIPTION:Box Lunches – Church Tours\nCome join us for Historic Garden Week at Westover Church. Enjoy tours of the historic Westover Church and box lunches.  \nSunday 4/21\, 11 am – 3:00 pm | Monday 4/22\, 11 am – 3:00 pm \nBox Lunches\nBox lunches will be available for purchase each day.  Box lunches can be purchased ahead of time online before April 15th to guarantee your reservation. There will be a limited number of lunches available for purchase the day of the tours. Purchase a Box Lunch \nChurch Tours\nThe historic Westover Church will be open to visitors each day from 11am – 3pm. There will be docents on site to interpret the church history for visitors. Tickets are not required for tours of Westover Church. \nGarden Week Tours of Historic Berkeley\, Shirley and Westover\nPresented by the Garden Club of Virginia\, Historic Garden Week features tours of private landscapes\, public gardens and historic sites across Virginia. For more information on these tours visit Historic Garden Week. Berkeley\, Shirley\, and Westover were all settled in the early 1600s as tobacco plantations\, with Westover Church serving as the local parish. Purchase Garden Week Tour tickets \n\nProceeds from boxed lunches support Westover Church. Proceeds from Garden Tour Tickets fund the restoration and preservation of Virginia’s historic public gardens and a research fellowship program in landscape architecture.
URL:https://westoverepiscopalchurch.org/event/historic-garden-week-at-westover-church/
LOCATION:Westover Episcopal Church\, 6401 John Tyler Hwy.\, Charles City\, VA\, 23030\, United States
ATTACH;FMTTYPE=image/jpeg:https://westoverepiscopalchurch.org/wp-content/uploads/2018/03/westover-church-unknown-photog.jpg
END:VEVENT
BEGIN:VEVENT
DTSTART;TZID=America/New_York:20240414T100000
DTEND;TZID=America/New_York:20240414T110000
DTSTAMP:20260423T152313
CREATED:20240307T150928Z
LAST-MODIFIED:20240307T150928Z
UID:10001459-1713088800-1713092400@westoverepiscopalchurch.org
SUMMARY:Third Sunday of Easter Service
DESCRIPTION:
URL:https://westoverepiscopalchurch.org/event/third-sunday-of-easter-service/
LOCATION:Westover Episcopal Church\, 6401 John Tyler Hwy.\, Charles City\, VA\, 23030\, United States
END:VEVENT
BEGIN:VEVENT
DTSTART;TZID=America/New_York:20240407T100000
DTEND;TZID=America/New_York:20240407T110000
DTSTAMP:20260423T152313
CREATED:20240307T150858Z
LAST-MODIFIED:20240307T150858Z
UID:10001458-1712484000-1712487600@westoverepiscopalchurch.org
SUMMARY:Second Sunday of Easter Service
DESCRIPTION:
URL:https://westoverepiscopalchurch.org/event/second-sunday-of-easter-service/
LOCATION:Westover Episcopal Church\, 6401 John Tyler Hwy.\, Charles City\, VA\, 23030\, United States
END:VEVENT
BEGIN:VEVENT
DTSTART;TZID=America/New_York:20240404T093000
DTEND;TZID=America/New_York:20240404T103000
DTSTAMP:20260423T152313
CREATED:20240328T150507Z
LAST-MODIFIED:20240328T150507Z
UID:10001466-1712223000-1712226600@westoverepiscopalchurch.org
SUMMARY:No Yoga Today
DESCRIPTION:
URL:https://westoverepiscopalchurch.org/event/no-yoga-today-2/
LOCATION:Westover Episcopal Church\, 6401 John Tyler Hwy.\, Charles City\, VA\, 23030\, United States
END:VEVENT
END:VCALENDAR