BEGIN:VCALENDAR
VERSION:2.0
PRODID:-//Westover Episcopal Church - Charles City, VA - ECPv6.15.20//NONSGML v1.0//EN
CALSCALE:GREGORIAN
METHOD:PUBLISH
X-ORIGINAL-URL:https://westoverepiscopalchurch.org
X-WR-CALDESC:Events for Westover Episcopal Church - Charles City, VA
REFRESH-INTERVAL;VALUE=DURATION:PT1H
X-Robots-Tag:noindex
X-PUBLISHED-TTL:PT1H
BEGIN:VTIMEZONE
TZID:America/New_York
BEGIN:DAYLIGHT
TZOFFSETFROM:-0500
TZOFFSETTO:-0400
TZNAME:EDT
DTSTART:20220313T070000
END:DAYLIGHT
BEGIN:STANDARD
TZOFFSETFROM:-0400
TZOFFSETTO:-0500
TZNAME:EST
DTSTART:20221106T060000
END:STANDARD
BEGIN:DAYLIGHT
TZOFFSETFROM:-0500
TZOFFSETTO:-0400
TZNAME:EDT
DTSTART:20230312T070000
END:DAYLIGHT
BEGIN:STANDARD
TZOFFSETFROM:-0400
TZOFFSETTO:-0500
TZNAME:EST
DTSTART:20231105T060000
END:STANDARD
BEGIN:DAYLIGHT
TZOFFSETFROM:-0500
TZOFFSETTO:-0400
TZNAME:EDT
DTSTART:20240310T070000
END:DAYLIGHT
BEGIN:STANDARD
TZOFFSETFROM:-0400
TZOFFSETTO:-0500
TZNAME:EST
DTSTART:20241103T060000
END:STANDARD
BEGIN:DAYLIGHT
TZOFFSETFROM:-0500
TZOFFSETTO:-0400
TZNAME:EDT
DTSTART:20250309T070000
END:DAYLIGHT
BEGIN:STANDARD
TZOFFSETFROM:-0400
TZOFFSETTO:-0500
TZNAME:EST
DTSTART:20251102T060000
END:STANDARD
BEGIN:DAYLIGHT
TZOFFSETFROM:-0500
TZOFFSETTO:-0400
TZNAME:EDT
DTSTART:20260308T070000
END:DAYLIGHT
BEGIN:STANDARD
TZOFFSETFROM:-0400
TZOFFSETTO:-0500
TZNAME:EST
DTSTART:20261101T060000
END:STANDARD
END:VTIMEZONE
BEGIN:VEVENT
DTSTART;VALUE=DATE:20250427
DTEND;VALUE=DATE:20250429
DTSTAMP:20260423T183118
CREATED:20250306T202237Z
LAST-MODIFIED:20250306T202314Z
UID:10002160-1745712000-1745884799@westoverepiscopalchurch.org
SUMMARY:Historic Garden Week at Westover Church
DESCRIPTION:Box Lunches – Church Tours\nCome join us for Historic Garden Week at Westover Church. Enjoy tours of the historic Westover Church and box lunches.  \nSunday 4/27\, 11 am – 3:00 pm | Monday 4/28\, 11 am – 3:00 pm \nBox Lunches\nBox lunches will be available for purchase each day.  Box lunches can be purchased ahead of time online before April 15th to guarantee your reservation. There will be a limited number of lunches available for purchase the day of the tours. Purchase a Box Lunch \nChurch Tours\nThe historic Westover Church will be open to visitors each day from 11am – 3pm. There will be docents on site to interpret the church history for visitors. Tickets are not required for tours of Westover Church. \nGarden Week Tours of Historic Berkeley\, Shirley and Westover\nPresented by the Garden Club of Virginia\, Historic Garden Week features tours of private landscapes\, public gardens and historic sites across Virginia. For more information on these tours visit Historic Garden Week. Berkeley\, Shirley\, and Westover were all settled in the early 1600s as tobacco plantations\, with Westover Church serving as the local parish. Purchase Garden Week Tour tickets \n\nProceeds from boxed lunches support Westover Church. Proceeds from Garden Tour Tickets fund the restoration and preservation of Virginia’s historic public gardens and a research fellowship program in landscape architecture.
URL:https://westoverepiscopalchurch.org/event/historic-garden-week-at-westover-church-2025/
LOCATION:Westover Episcopal Church\, 6401 John Tyler Hwy.\, Charles City\, VA\, 23030\, United States
ATTACH;FMTTYPE=image/jpeg:https://westoverepiscopalchurch.org/wp-content/uploads/2018/03/westover-church-unknown-photog.jpg
END:VEVENT
BEGIN:VEVENT
DTSTART;TZID=America/New_York:20240901T100000
DTEND;TZID=America/New_York:20240901T110000
DTSTAMP:20260423T183118
CREATED:20240924T173528Z
LAST-MODIFIED:20240924T173528Z
UID:10001483-1725184800-1725188400@westoverepiscopalchurch.org
SUMMARY:Fifteenth Sunday after Pentecost Service
DESCRIPTION:
URL:https://westoverepiscopalchurch.org/event/fifteenth-sunday-after-pentecost-service/
LOCATION:Westover Episcopal Church\, 6401 John Tyler Hwy.\, Charles City\, VA\, 23030\, United States
END:VEVENT
BEGIN:VEVENT
DTSTART;TZID=America/New_York:20240428T100000
DTEND;TZID=America/New_York:20240428T110000
DTSTAMP:20260423T183118
CREATED:20240307T151038Z
LAST-MODIFIED:20240307T151038Z
UID:10001461-1714298400-1714302000@westoverepiscopalchurch.org
SUMMARY:Fifth Sunday of Easter Service
DESCRIPTION:
URL:https://westoverepiscopalchurch.org/event/fifth-sunday-of-easter-service/
LOCATION:Westover Episcopal Church\, 6401 John Tyler Hwy.\, Charles City\, VA\, 23030\, United States
END:VEVENT
BEGIN:VEVENT
DTSTART;TZID=America/New_York:20240422T110000
DTEND;TZID=America/New_York:20240422T150000
DTSTAMP:20260423T183118
CREATED:20240307T151529Z
LAST-MODIFIED:20240307T151807Z
UID:10001463-1713783600-1713798000@westoverepiscopalchurch.org
SUMMARY:Historic Garden Week
DESCRIPTION:For more information\, go to Historic Garden Week
URL:https://westoverepiscopalchurch.org/event/historic-garden-week-4/
LOCATION:Westover Episcopal Church\, 6401 John Tyler Hwy.\, Charles City\, VA\, 23030\, United States
END:VEVENT
BEGIN:VEVENT
DTSTART;TZID=America/New_York:20240421T110000
DTEND;TZID=America/New_York:20240421T150000
DTSTAMP:20260423T183118
CREATED:20240307T151445Z
LAST-MODIFIED:20240307T151649Z
UID:10001462-1713697200-1713711600@westoverepiscopalchurch.org
SUMMARY:Historic Garden Week
DESCRIPTION:For more information\, go to Historic Garden Week
URL:https://westoverepiscopalchurch.org/event/historic-garden-week/
LOCATION:Westover Episcopal Church\, 6401 John Tyler Hwy.\, Charles City\, VA\, 23030\, United States
END:VEVENT
BEGIN:VEVENT
DTSTART;TZID=America/New_York:20240421T100000
DTEND;TZID=America/New_York:20240421T110000
DTSTAMP:20260423T183118
CREATED:20240307T150959Z
LAST-MODIFIED:20240307T150959Z
UID:10001460-1713693600-1713697200@westoverepiscopalchurch.org
SUMMARY:Fourth Sunday of Easter Service
DESCRIPTION:
URL:https://westoverepiscopalchurch.org/event/fourth-sunday-of-easter-service/
LOCATION:Westover Episcopal Church\, 6401 John Tyler Hwy.\, Charles City\, VA\, 23030\, United States
END:VEVENT
BEGIN:VEVENT
DTSTART;VALUE=DATE:20240421
DTEND;VALUE=DATE:20240423
DTSTAMP:20260423T183118
CREATED:20240228T154405Z
LAST-MODIFIED:20240301T143554Z
UID:10001451-1713657600-1713830399@westoverepiscopalchurch.org
SUMMARY:Historic Garden Week at Westover Church
DESCRIPTION:Box Lunches – Church Tours\nCome join us for Historic Garden Week at Westover Church. Enjoy tours of the historic Westover Church and box lunches.  \nSunday 4/21\, 11 am – 3:00 pm | Monday 4/22\, 11 am – 3:00 pm \nBox Lunches\nBox lunches will be available for purchase each day.  Box lunches can be purchased ahead of time online before April 15th to guarantee your reservation. There will be a limited number of lunches available for purchase the day of the tours. Purchase a Box Lunch \nChurch Tours\nThe historic Westover Church will be open to visitors each day from 11am – 3pm. There will be docents on site to interpret the church history for visitors. Tickets are not required for tours of Westover Church. \nGarden Week Tours of Historic Berkeley\, Shirley and Westover\nPresented by the Garden Club of Virginia\, Historic Garden Week features tours of private landscapes\, public gardens and historic sites across Virginia. For more information on these tours visit Historic Garden Week. Berkeley\, Shirley\, and Westover were all settled in the early 1600s as tobacco plantations\, with Westover Church serving as the local parish. Purchase Garden Week Tour tickets \n\nProceeds from boxed lunches support Westover Church. Proceeds from Garden Tour Tickets fund the restoration and preservation of Virginia’s historic public gardens and a research fellowship program in landscape architecture.
URL:https://westoverepiscopalchurch.org/event/historic-garden-week-at-westover-church/
LOCATION:Westover Episcopal Church\, 6401 John Tyler Hwy.\, Charles City\, VA\, 23030\, United States
ATTACH;FMTTYPE=image/jpeg:https://westoverepiscopalchurch.org/wp-content/uploads/2018/03/westover-church-unknown-photog.jpg
END:VEVENT
BEGIN:VEVENT
DTSTART;TZID=America/New_York:20240414T100000
DTEND;TZID=America/New_York:20240414T110000
DTSTAMP:20260423T183118
CREATED:20240307T150928Z
LAST-MODIFIED:20240307T150928Z
UID:10001459-1713088800-1713092400@westoverepiscopalchurch.org
SUMMARY:Third Sunday of Easter Service
DESCRIPTION:
URL:https://westoverepiscopalchurch.org/event/third-sunday-of-easter-service/
LOCATION:Westover Episcopal Church\, 6401 John Tyler Hwy.\, Charles City\, VA\, 23030\, United States
END:VEVENT
BEGIN:VEVENT
DTSTART;TZID=America/New_York:20240407T100000
DTEND;TZID=America/New_York:20240407T110000
DTSTAMP:20260423T183118
CREATED:20240307T150858Z
LAST-MODIFIED:20240307T150858Z
UID:10001458-1712484000-1712487600@westoverepiscopalchurch.org
SUMMARY:Second Sunday of Easter Service
DESCRIPTION:
URL:https://westoverepiscopalchurch.org/event/second-sunday-of-easter-service/
LOCATION:Westover Episcopal Church\, 6401 John Tyler Hwy.\, Charles City\, VA\, 23030\, United States
END:VEVENT
BEGIN:VEVENT
DTSTART;TZID=America/New_York:20240404T093000
DTEND;TZID=America/New_York:20240404T103000
DTSTAMP:20260423T183118
CREATED:20240328T150507Z
LAST-MODIFIED:20240328T150507Z
UID:10001466-1712223000-1712226600@westoverepiscopalchurch.org
SUMMARY:No Yoga Today
DESCRIPTION:
URL:https://westoverepiscopalchurch.org/event/no-yoga-today-2/
LOCATION:Westover Episcopal Church\, 6401 John Tyler Hwy.\, Charles City\, VA\, 23030\, United States
END:VEVENT
BEGIN:VEVENT
DTSTART;TZID=America/New_York:20240331T100000
DTEND;TZID=America/New_York:20240331T110000
DTSTAMP:20260423T183118
CREATED:20240307T150813Z
LAST-MODIFIED:20240307T150813Z
UID:10001457-1711879200-1711882800@westoverepiscopalchurch.org
SUMMARY:Easter Day Service
DESCRIPTION:The Easter Service will be followed by an Easter Egg Hunt.
URL:https://westoverepiscopalchurch.org/event/easter-day-service/
LOCATION:Westover Episcopal Church\, 6401 John Tyler Hwy.\, Charles City\, VA\, 23030\, United States
END:VEVENT
BEGIN:VEVENT
DTSTART;TZID=America/New_York:20240329T120000
DTEND;TZID=America/New_York:20240329T130000
DTSTAMP:20260423T183118
CREATED:20240326T124524Z
LAST-MODIFIED:20240326T124524Z
UID:10001465-1711713600-1711717200@westoverepiscopalchurch.org
SUMMARY:Good Friday Service
DESCRIPTION:
URL:https://westoverepiscopalchurch.org/event/good-friday-service-2/
LOCATION:Westover Episcopal Church\, 6401 John Tyler Hwy.\, Charles City\, VA\, 23030\, United States
END:VEVENT
BEGIN:VEVENT
DTSTART;TZID=America/New_York:20240328T180000
DTEND;TZID=America/New_York:20240328T190000
DTSTAMP:20260423T183118
CREATED:20240326T124436Z
LAST-MODIFIED:20240326T124436Z
UID:10001464-1711648800-1711652400@westoverepiscopalchurch.org
SUMMARY:Maundy Thursday Service
DESCRIPTION:
URL:https://westoverepiscopalchurch.org/event/maundy-thursday-service-2/
LOCATION:Westover Episcopal Church\, 6401 John Tyler Hwy.\, Charles City\, VA\, 23030\, United States
END:VEVENT
BEGIN:VEVENT
DTSTART;TZID=America/New_York:20240324T100000
DTEND;TZID=America/New_York:20240324T110000
DTSTAMP:20260423T183118
CREATED:20240307T150715Z
LAST-MODIFIED:20240307T150715Z
UID:10001456-1711274400-1711278000@westoverepiscopalchurch.org
SUMMARY:Palm Sunday Service
DESCRIPTION:
URL:https://westoverepiscopalchurch.org/event/palm-sunday-service-2/
LOCATION:Westover Episcopal Church\, 6401 John Tyler Hwy.\, Charles City\, VA\, 23030\, United States
END:VEVENT
BEGIN:VEVENT
DTSTART;TZID=America/New_York:20240317T173000
DTEND;TZID=America/New_York:20240317T183000
DTSTAMP:20260423T183118
CREATED:20240307T150631Z
LAST-MODIFIED:20240307T150631Z
UID:10001455-1710696600-1710700200@westoverepiscopalchurch.org
SUMMARY:Celtic Communion Service
DESCRIPTION:A Potluck Dinner will follow the service.
URL:https://westoverepiscopalchurch.org/event/celtic-communion-service/
LOCATION:Westover Episcopal Church\, 6401 John Tyler Hwy.\, Charles City\, VA\, 23030\, United States
END:VEVENT
BEGIN:VEVENT
DTSTART;TZID=America/New_York:20240317T100000
DTEND;TZID=America/New_York:20240317T110000
DTSTAMP:20260423T183118
CREATED:20240307T150445Z
LAST-MODIFIED:20240307T150445Z
UID:10001454-1710669600-1710673200@westoverepiscopalchurch.org
SUMMARY:No 10:00 AM Service
DESCRIPTION:
URL:https://westoverepiscopalchurch.org/event/no-1000-am-service/
LOCATION:Westover Episcopal Church\, 6401 John Tyler Hwy.\, Charles City\, VA\, 23030\, United States
END:VEVENT
BEGIN:VEVENT
DTSTART;TZID=America/New_York:20240310T100000
DTEND;TZID=America/New_York:20240310T110000
DTSTAMP:20260423T183118
CREATED:20240307T150358Z
LAST-MODIFIED:20240307T150358Z
UID:10001453-1710064800-1710068400@westoverepiscopalchurch.org
SUMMARY:Fourth Sunday in Lent Service
DESCRIPTION:
URL:https://westoverepiscopalchurch.org/event/fourth-sunday-in-lent-service/
LOCATION:Westover Episcopal Church\, 6401 John Tyler Hwy.\, Charles City\, VA\, 23030\, United States
END:VEVENT
BEGIN:VEVENT
DTSTART;TZID=America/New_York:20240303T100000
DTEND;TZID=America/New_York:20240303T110000
DTSTAMP:20260423T183118
CREATED:20240307T150324Z
LAST-MODIFIED:20240307T150324Z
UID:10001452-1709460000-1709463600@westoverepiscopalchurch.org
SUMMARY:Third Sunday in Lent Service
DESCRIPTION:
URL:https://westoverepiscopalchurch.org/event/third-sunday-in-lent-service/
LOCATION:Westover Episcopal Church\, 6401 John Tyler Hwy.\, Charles City\, VA\, 23030\, United States
END:VEVENT
BEGIN:VEVENT
DTSTART;TZID=America/New_York:20240225T100000
DTEND;TZID=America/New_York:20240225T110000
DTSTAMP:20260423T183118
CREATED:20240105T180118Z
LAST-MODIFIED:20240105T180118Z
UID:10001188-1708855200-1708858800@westoverepiscopalchurch.org
SUMMARY:Second Sunday in Lent Service
DESCRIPTION:
URL:https://westoverepiscopalchurch.org/event/second-sunday-in-lent-service/
LOCATION:Westover Episcopal Church\, 6401 John Tyler Hwy.\, Charles City\, VA\, 23030\, United States
END:VEVENT
BEGIN:VEVENT
DTSTART;TZID=America/New_York:20240218T100000
DTEND;TZID=America/New_York:20240218T110000
DTSTAMP:20260423T183118
CREATED:20240105T180038Z
LAST-MODIFIED:20240105T180038Z
UID:10001187-1708250400-1708254000@westoverepiscopalchurch.org
SUMMARY:First Sunday in Lent Service
DESCRIPTION:
URL:https://westoverepiscopalchurch.org/event/first-sunday-in-lent-service/
LOCATION:Westover Episcopal Church\, 6401 John Tyler Hwy.\, Charles City\, VA\, 23030\, United States
END:VEVENT
BEGIN:VEVENT
DTSTART;TZID=America/New_York:20240214T180000
DTEND;TZID=America/New_York:20240214T190000
DTSTAMP:20260423T183118
CREATED:20240105T175748Z
LAST-MODIFIED:20240105T175748Z
UID:10001186-1707933600-1707937200@westoverepiscopalchurch.org
SUMMARY:Ash Wednesday Service
DESCRIPTION:
URL:https://westoverepiscopalchurch.org/event/ash-wednesday-service/
LOCATION:Westover Episcopal Church\, 6401 John Tyler Hwy.\, Charles City\, VA\, 23030\, United States
END:VEVENT
BEGIN:VEVENT
DTSTART;TZID=America/New_York:20240211T100000
DTEND;TZID=America/New_York:20240211T110000
DTSTAMP:20260423T183118
CREATED:20240105T175657Z
LAST-MODIFIED:20240105T175920Z
UID:10001185-1707645600-1707649200@westoverepiscopalchurch.org
SUMMARY:Last Sunday after the Epiphany Service
DESCRIPTION:
URL:https://westoverepiscopalchurch.org/event/last-sunday-after-the-epiphany-service/
LOCATION:Westover Episcopal Church\, 6401 John Tyler Hwy.\, Charles City\, VA\, 23030\, United States
END:VEVENT
BEGIN:VEVENT
DTSTART;TZID=America/New_York:20240204T100000
DTEND;TZID=America/New_York:20240204T110000
DTSTAMP:20260423T183118
CREATED:20240105T175515Z
LAST-MODIFIED:20240105T175515Z
UID:10001184-1707040800-1707044400@westoverepiscopalchurch.org
SUMMARY:Fifth Sunday after the Epiphany Service
DESCRIPTION:
URL:https://westoverepiscopalchurch.org/event/fifth-sunday-after-the-epiphany-service/
LOCATION:Westover Episcopal Church\, 6401 John Tyler Hwy.\, Charles City\, VA\, 23030\, United States
END:VEVENT
BEGIN:VEVENT
DTSTART;TZID=America/New_York:20240128T100000
DTEND;TZID=America/New_York:20240128T110000
DTSTAMP:20260423T183118
CREATED:20240105T175419Z
LAST-MODIFIED:20240105T175419Z
UID:10001183-1706436000-1706439600@westoverepiscopalchurch.org
SUMMARY:Fourth Sunday after the Epiphany Service
DESCRIPTION:
URL:https://westoverepiscopalchurch.org/event/fourth-sunday-after-the-epiphany-service/
LOCATION:Westover Episcopal Church\, 6401 John Tyler Hwy.\, Charles City\, VA\, 23030\, United States
END:VEVENT
BEGIN:VEVENT
DTSTART;TZID=America/New_York:20240114T100000
DTEND;TZID=America/New_York:20240114T110000
DTSTAMP:20260423T183118
CREATED:20240105T175159Z
LAST-MODIFIED:20240105T175159Z
UID:10001181-1705226400-1705230000@westoverepiscopalchurch.org
SUMMARY:Second Sunday after the Epiphany Service
DESCRIPTION:
URL:https://westoverepiscopalchurch.org/event/second-sunday-after-the-epiphany-service/
LOCATION:Westover Episcopal Church\, 6401 John Tyler Hwy.\, Charles City\, VA\, 23030\, United States
END:VEVENT
BEGIN:VEVENT
DTSTART;TZID=America/New_York:20240107T100000
DTEND;TZID=America/New_York:20240107T110000
DTSTAMP:20260423T183118
CREATED:20240105T175038Z
LAST-MODIFIED:20240105T175038Z
UID:10001180-1704621600-1704625200@westoverepiscopalchurch.org
SUMMARY:The Feast of the Epiphany Service
DESCRIPTION:
URL:https://westoverepiscopalchurch.org/event/the-feast-of-the-epiphany-service/
LOCATION:Westover Episcopal Church\, 6401 John Tyler Hwy.\, Charles City\, VA\, 23030\, United States
END:VEVENT
BEGIN:VEVENT
DTSTART;TZID=America/New_York:20231231T100000
DTEND;TZID=America/New_York:20231231T110000
DTSTAMP:20260423T183118
CREATED:20240105T174941Z
LAST-MODIFIED:20240105T174941Z
UID:10001179-1704016800-1704020400@westoverepiscopalchurch.org
SUMMARY:Christmas Lessons and Carols
DESCRIPTION:
URL:https://westoverepiscopalchurch.org/event/christmas-lessons-and-carols-3/
LOCATION:Westover Episcopal Church\, 6401 John Tyler Hwy.\, Charles City\, VA\, 23030\, United States
END:VEVENT
BEGIN:VEVENT
DTSTART;TZID=America/New_York:20231224T100000
DTEND;TZID=America/New_York:20231224T110000
DTSTAMP:20260423T183118
CREATED:20230925T205131Z
LAST-MODIFIED:20230925T205131Z
UID:10001173-1703412000-1703415600@westoverepiscopalchurch.org
SUMMARY:No 10:00AM Service Today
DESCRIPTION:There is only one service today at 5:30PM
URL:https://westoverepiscopalchurch.org/event/no-1000am-service-today-2/
LOCATION:Westover Episcopal Church\, 6401 John Tyler Hwy.\, Charles City\, VA\, 23030\, United States
END:VEVENT
BEGIN:VEVENT
DTSTART;TZID=America/New_York:20231217T100000
DTEND;TZID=America/New_York:20231217T110000
DTSTAMP:20260423T183118
CREATED:20230925T205012Z
LAST-MODIFIED:20230925T205012Z
UID:10001172-1702807200-1702810800@westoverepiscopalchurch.org
SUMMARY:Third Sunday of Advent Service
DESCRIPTION:
URL:https://westoverepiscopalchurch.org/event/third-sunday-of-advent-service/
LOCATION:Westover Episcopal Church\, 6401 John Tyler Hwy.\, Charles City\, VA\, 23030\, United States
END:VEVENT
BEGIN:VEVENT
DTSTART;TZID=America/New_York:20231212T130000
DTEND;TZID=America/New_York:20231212T143000
DTSTAMP:20260423T183118
CREATED:20231125T224213Z
LAST-MODIFIED:20231125T224213Z
UID:10001177-1702386000-1702391400@westoverepiscopalchurch.org
SUMMARY:Advent Book Study
DESCRIPTION:Our Advent Book Study will begin on Tuesday\, November 28th\, and we will meet from 1pm to 2:30pm in the Parish Hall.  On Tuesdays November 28th\, December 5th\, December 12th\, and December 19th we will read and discuss Rowan Williams’ Being Christian: Baptism\, Bible\, Eucharist\, Prayer.  This little gem of a book gets right to the heart of the Christian experience in four theologically profound chapters.  Rowan Williams served as the 104th Archbishop of Canterbury from 2002 to 2012 and continues to serve the Church through teaching and writing.
URL:https://westoverepiscopalchurch.org/event/advent-book-study-3/
LOCATION:Westover Episcopal Church\, 6401 John Tyler Hwy.\, Charles City\, VA\, 23030\, United States
END:VEVENT
END:VCALENDAR